BEGIN:VCALENDAR
VERSION:2.0
PRODID:-//iBlooming - ECPv6.14.1//NONSGML v1.0//EN
CALSCALE:GREGORIAN
METHOD:PUBLISH
X-ORIGINAL-URL:http://iblooming.ai/id
X-WR-CALDESC:Events for iBlooming
REFRESH-INTERVAL;VALUE=DURATION:PT1H
X-Robots-Tag:noindex
X-PUBLISHED-TTL:PT1H
BEGIN:VTIMEZONE
TZID:Asia/Hong_Kong
BEGIN:STANDARD
TZOFFSETFROM:+0800
TZOFFSETTO:+0800
TZNAME:HKT
DTSTART:20250101T000000
END:STANDARD
END:VTIMEZONE
BEGIN:VEVENT
DTSTART;TZID=Asia/Hong_Kong:20250903T180000
DTEND;TZID=Asia/Hong_Kong:20250903T190000
DTSTAMP:20260423T185146
CREATED:20250825T095211Z
LAST-MODIFIED:20250825T095552Z
UID:10000068-1756922400-1756926000@iblooming.ai
SUMMARY:Empowering Teams: From Individual Talent to Collective Excellence
DESCRIPTION:Join Us for  “Empowering Teams: From Individual Talent to Collective Excellence” with Emmanuel Hegire Nzobantou as he shares strategies to transform individual strengths into high-performing\, cohesive teams. This session highlights how effective leadership and collaboration drive success and innovation. \nWhether you lead a team or contribute as a member\, discover how to harness collective talent\, improve synergy\, and achieve outstanding results together. \n  \nSpoken Language: English\nTime: 5:00 – 6:00 PM (GMT+7 JKT / KH)   |  6:00 – 7:00 PM (GMT+8 HK / MY)
URL:http://iblooming.ai/id/event/3-ilearn-wed-draft/
LOCATION:Business School
CATEGORIES:OnLive
ATTACH;FMTTYPE=image/jpeg:https://iblooming.ai/wp-content/uploads/2025/08/0309-T.jpg
ORGANIZER;CN="iLearn":MAILTO:cs@iblooming.ai
END:VEVENT
END:VCALENDAR