BEGIN:VCALENDAR
VERSION:2.0
PRODID:-//iBlooming - ECPv6.14.1//NONSGML v1.0//EN
CALSCALE:GREGORIAN
METHOD:PUBLISH
X-ORIGINAL-URL:http://iblooming.ai/id
X-WR-CALDESC:Events for iBlooming
REFRESH-INTERVAL;VALUE=DURATION:PT1H
X-Robots-Tag:noindex
X-PUBLISHED-TTL:PT1H
BEGIN:VTIMEZONE
TZID:Asia/Hong_Kong
BEGIN:STANDARD
TZOFFSETFROM:+0800
TZOFFSETTO:+0800
TZNAME:HKT
DTSTART:20250101T000000
END:STANDARD
END:VTIMEZONE
BEGIN:VEVENT
DTSTART;TZID=Asia/Hong_Kong:20250920T060000
DTEND;TZID=Asia/Hong_Kong:20250920T073000
DTSTAMP:20260423T185147
CREATED:20250814T095144Z
LAST-MODIFIED:20250827T033141Z
UID:10000064-1758348000-1758353400@iblooming.ai
SUMMARY:Morning Shower & Morning Feeding Pt. 28
DESCRIPTION:Are you ready to transform your life from the inside out? Imagine waking up each day feeling centered\, confident\, and deeply connected to your true self. \nMS&MF: Reconnect\, Reflect\, and Reclaim Your Greatness! \nMS&MF is a transformative personal reflection program designed to help you grow your inner world and reclaim your greatness. \nThis step-by-step journey empowers you to break free from external validation and cultivate a life of inner peace\, joy\, and true freedom. \nWhat You’ll Gain: \n✅ Deep Self-Reflection – Understand yourself on a profound level.\n✅ Daily Revisitation – Reinforce personal growth every day.\n✅ Freedom from Seeking Approval – Live for yourself\, not for others.\n✅ Inner Joy & Peace – Find happiness from within.\n✅ Awaken Your Inner Voice – Trust your intuition and wisdom.\n✅ Embrace Your True Self – Be unapologetically you.\n✅ Experience True Freedom – Break free from limitations.\n✅ And more! \nThis program is for everyone!\nIt’s time to stop living on autopilot and start creating a life that aligns with your deepest values and desires. \nJoin us today and take the first step toward a more joyful\, authentic\, and empowered you. \nSpoken Language: Indonesia\nTime: 5:00 – 6:30 AM (GMT+7 JKT / KH)   |  6:00 – 7:30 AM (GMT+8 HK / MY) \n 
URL:http://iblooming.ai/id/event/morning-shower-morning-feeding-pt-28/
CATEGORIES:OnLive
ATTACH;FMTTYPE=image/jpeg:https://iblooming.ai/wp-content/uploads/2025/07/Thumbnail-9.jpg
END:VEVENT
BEGIN:VEVENT
DTSTART;TZID=Asia/Hong_Kong:20250920T110000
DTEND;TZID=Asia/Hong_Kong:20250920T120000
DTSTAMP:20260423T185147
CREATED:20250827T031951Z
LAST-MODIFIED:20250827T031951Z
UID:10000076-1758366000-1758369600@iblooming.ai
SUMMARY:iLearn Coach: 3.6 Coaching Practicum
DESCRIPTION:Join us for iLearn Coach: “3.6 Coaching Practicum” with Ho Sze Chieng as he guides you through hands-on practice to strengthen your coaching skills. This session focuses on applying coaching techniques in real-life scenarios\, helping you gain confidence and effectiveness as a coach. \nWhether you’re just starting your coaching journey or looking to refine your approach\, this practicum will provide the practical experience you need to grow and succeed. \nSpoken Language: English\nTime: 10:00 AM (GMT+7 JKT / KH)   |  11:00 AM (GMT+8 HK / MY)
URL:http://iblooming.ai/id/event/ilearn-coach-3-6-coaching-practicum/
LOCATION:Business School
CATEGORIES:OnLive
ATTACH;FMTTYPE=image/jpeg:https://iblooming.ai/wp-content/uploads/2025/08/2009-T.jpg
ORGANIZER;CN="iLearn":MAILTO:cs@iblooming.ai
END:VEVENT
END:VCALENDAR