BEGIN:VCALENDAR
VERSION:2.0
PRODID:-//iBlooming - ECPv6.14.1//NONSGML v1.0//EN
CALSCALE:GREGORIAN
METHOD:PUBLISH
X-WR-CALNAME:iBlooming
X-ORIGINAL-URL:http://iblooming.ai/id
X-WR-CALDESC:Events for iBlooming
REFRESH-INTERVAL;VALUE=DURATION:PT1H
X-Robots-Tag:noindex
X-PUBLISHED-TTL:PT1H
BEGIN:VTIMEZONE
TZID:Asia/Hong_Kong
BEGIN:STANDARD
TZOFFSETFROM:+0800
TZOFFSETTO:+0800
TZNAME:HKT
DTSTART:20250101T000000
END:STANDARD
END:VTIMEZONE
BEGIN:VEVENT
DTSTART;TZID=Asia/Hong_Kong:20250926T160000
DTEND;TZID=Asia/Hong_Kong:20250926T170000
DTSTAMP:20260423T145855
CREATED:20250901T072450Z
LAST-MODIFIED:20250918T082311Z
UID:10000092-1758902400-1758906000@iblooming.ai
SUMMARY:Nutrition for Sport: How to Increase Energy\, Performance\, Recovery\, and Reduce Injuries During Exercise
DESCRIPTION:Discover “Nutrition for Sport: How to Increase Energy\, Performance\, Recovery\, and Reduce Injuries During Exercise” with Yongga Primadyansah as he shares the vital role of nutrition in athletic success. This session explores how the right food choices can fuel performance\, speed up recovery\, and protect the body from injuries. \nWhether you’re an athlete\, fitness enthusiast\, or just starting your workout journey\, learn practical nutrition strategies to train smarter\, perform better\, and recover stronger. \nSpoken Language: Indonesian\nTime: 3:00 – 4:00 PM (GMT+7 JKT / KH)   |  4:00 – 5:00 PM (GMT+8 HK / MY)
URL:http://iblooming.ai/id/event/stay-tuned-9/
CATEGORIES:OnLive
ATTACH;FMTTYPE=image/jpeg:https://iblooming.ai/wp-content/uploads/2025/09/0926t.jpg
ORGANIZER;CN="iLearn":MAILTO:cs@iblooming.ai
END:VEVENT
END:VCALENDAR