BEGIN:VCALENDAR
VERSION:2.0
PRODID:-//iBlooming - ECPv6.14.1//NONSGML v1.0//EN
CALSCALE:GREGORIAN
METHOD:PUBLISH
X-ORIGINAL-URL:http://iblooming.ai/id
X-WR-CALDESC:Events for iBlooming
REFRESH-INTERVAL;VALUE=DURATION:PT1H
X-Robots-Tag:noindex
X-PUBLISHED-TTL:PT1H
BEGIN:VTIMEZONE
TZID:Asia/Hong_Kong
BEGIN:STANDARD
TZOFFSETFROM:+0800
TZOFFSETTO:+0800
TZNAME:HKT
DTSTART:20250101T000000
END:STANDARD
END:VTIMEZONE
BEGIN:VEVENT
DTSTART;TZID=Asia/Hong_Kong:20251013T180000
DTEND;TZID=Asia/Hong_Kong:20251013T190000
DTSTAMP:20260423T083744
CREATED:20250923T021912Z
LAST-MODIFIED:20250923T022212Z
UID:10000113-1760378400-1760382000@iblooming.ai
SUMMARY:Homiletics in Our Time: Preaching that Moves and Transforms
DESCRIPTION:Join us for “Homiletics in Our Time: Preaching that Moves and Transforms” with Dr. Didimus Sutanto\, M.Pd as we explore how preaching can remain powerful\, relevant\, and transformative in today’s world. This session will highlight practical approaches to delivering sermons that not only inform but also inspire change in the hearts and lives of listeners. \nWhether you’re seeking clarity in your spiritual journey or encouragement to live with greater purpose\, this session will inspire you to embrace the call with faith and commitment. \nSpoken Language: Indonesian \nTime: 5:00 – 6:00 PM (GMT+7 JKT / KH)   |  6:00 – 7:00 PM (GMT+8 HK / MY)
URL:http://iblooming.ai/id/event/homiletics-in-our-time-preaching-that-moves-and-transforms/
LOCATION:Business School
CATEGORIES:OnLive
ATTACH;FMTTYPE=image/jpeg:https://iblooming.ai/wp-content/uploads/2025/09/1310t.jpg
END:VEVENT
BEGIN:VEVENT
DTSTART;TZID=Asia/Hong_Kong:20251013T200000
DTEND;TZID=Asia/Hong_Kong:20251013T210000
DTSTAMP:20260423T083744
CREATED:20250926T021141Z
LAST-MODIFIED:20250926T041220Z
UID:10000123-1760385600-1760389200@iblooming.ai
SUMMARY:Balancing Success : Growing Your Business Without Sacrificing Family Time
DESCRIPTION:Join us for “Balancing Success: Growing Your Business Without Sacrificing Family Time” with Agus Budi Artoyo as we explore strategies to achieve professional growth while preserving harmony at home. This session will highlight how entrepreneurs and professionals can pursue success without compromising the relationships that matter most. \nPerfect for business owners\, leaders\, and parents alike\, this session will inspire you to build a thriving career and a fulfilling family life—side by side. \nSpoken Language: Indonesia\nTime: 7:00 – 8:00 PM (GMT+7 JKT / KH)   |  8:00 – 9:00 PM (GMT+8 HK / MY)
URL:http://iblooming.ai/id/event/balancing-success-growing-your-business-without-sacrificing-family-time/
LOCATION:Business School
CATEGORIES:OnLive
ATTACH;FMTTYPE=image/jpeg:https://iblooming.ai/wp-content/uploads/2025/09/1310t-2.jpg
ORGANIZER;CN="iLearn":MAILTO:cs@iblooming.ai
END:VEVENT
END:VCALENDAR