BEGIN:VCALENDAR
VERSION:2.0
PRODID:-//iBlooming - ECPv6.14.1//NONSGML v1.0//EN
CALSCALE:GREGORIAN
METHOD:PUBLISH
X-ORIGINAL-URL:http://iblooming.ai/id
X-WR-CALDESC:Events for iBlooming
REFRESH-INTERVAL;VALUE=DURATION:PT1H
X-Robots-Tag:noindex
X-PUBLISHED-TTL:PT1H
BEGIN:VTIMEZONE
TZID:Asia/Hong_Kong
BEGIN:STANDARD
TZOFFSETFROM:+0800
TZOFFSETTO:+0800
TZNAME:HKT
DTSTART:20250101T000000
END:STANDARD
END:VTIMEZONE
BEGIN:VEVENT
DTSTART;TZID=Asia/Hong_Kong:20251120T180000
DTEND;TZID=Asia/Hong_Kong:20251120T190000
DTSTAMP:20260423T094144
CREATED:20251104T041040Z
LAST-MODIFIED:20251104T041040Z
UID:10000174-1763661600-1763665200@iblooming.ai
SUMMARY:Build Skincare Business: How to Start & Master the Beauty Market
DESCRIPTION:Join us for  “Build Skincare Business: How to Start & Master the Beauty Market” with Bagas Prahadinata\, as we explore the keys to launching and growing a successful skincare brand in today’s competitive beauty industry. This session will share practical insights on market research\, branding\, product development\, and customer engagement. \nLearn how to position your skincare business for success—mastering trends\, building trust\, and creating products that truly connect with your audience in the ever-evolving beauty market. \n  \nSpoken Language: Indonesian\nTime: 5:00 – 6:00 PM (GMT+7 JKT / KH)   |  6:00 – 7:00 PM (GMT+8 HK / MY)
URL:http://iblooming.ai/id/event/build-skincare-business-how-to-start-master-the-beauty-market/
CATEGORIES:OnLive
ATTACH;FMTTYPE=image/jpeg:https://iblooming.ai/wp-content/uploads/2025/11/1120t.jpg
ORGANIZER;CN="iLearn":MAILTO:cs@iblooming.ai
END:VEVENT
BEGIN:VEVENT
DTSTART;TZID=Asia/Hong_Kong:20251120T200000
DTEND;TZID=Asia/Hong_Kong:20251120T210000
DTSTAMP:20260423T094144
CREATED:20251029T023810Z
LAST-MODIFIED:20251029T023810Z
UID:10000160-1763668800-1763672400@iblooming.ai
SUMMARY:COUNSELING IN THE BIBLE (Church & Counseling + Types of Counseling Groups\, Counseling Approach Methods)
DESCRIPTION:Join us for “Counseling in the Bible: Church & Counseling + Types of Counseling Groups\, Counseling Approach Methods” with Dr. Joko Prihanto\, M.Th\, as we explore the biblical foundation of counseling and its vital role within the life of the church. This session will reveal how Scripture guides both the heart and practice of counseling—helping believers grow in faith\, healing\, and community. \nDiscover the different types of counseling groups and practical approach methods that can be applied in ministry\, empowering the church to become a place of genuine care\, restoration\, and spiritual transformation. \n  \nSpoken Language: Indonesian\nTime: 8:00 PM (GMT+7 JKT / KH)   |  9:00 PM (GMT+8 HK / MY)
URL:http://iblooming.ai/id/event/counseling-in-the-bible-church-counseling-types-of-counseling-groups-counseling-approach-methods/
CATEGORIES:OnLive
ATTACH;FMTTYPE=image/jpeg:https://iblooming.ai/wp-content/uploads/2025/10/1120t.jpg
ORGANIZER;CN="iLearn":MAILTO:cs@iblooming.ai
END:VEVENT
BEGIN:VEVENT
DTSTART;TZID=Asia/Hong_Kong:20251120T223000
DTEND;TZID=Asia/Hong_Kong:20251120T235900
DTSTAMP:20260423T094144
CREATED:20251105T075819Z
LAST-MODIFIED:20251105T094151Z
UID:10000176-1763677800-1763683140@iblooming.ai
SUMMARY:Supper and Mindfulness Pt 3
DESCRIPTION:Experience “Supper and Mindfulness Pt 3” with Onggy Hianata\, an inspiring session that invites you to slow down\, reflect\, and rediscover the beauty of being present. Through mindful sharing and heartfelt reflection\, this session will explore how awareness and gratitude can transform the way we think\, feel\, and connect with others. \nDiscover how simple moments—when embraced with mindfulness—can bring deeper peace\, clarity\, and joy to your daily life\, nurturing both inner calm and meaningful connection with the world around you. \nSpoken Language: Indonesia\nTime: 9:300 – 11:00 PM (GMT+7 JKT / KH)   |  10:30PM – 12:00 AM (GMT+8 HK / MY) \n 
URL:http://iblooming.ai/id/event/supper-and-mindfulness-pt-3/
CATEGORIES:OnLive
ATTACH;FMTTYPE=image/jpeg:https://iblooming.ai/wp-content/uploads/2025/11/Supper_Launch_Thumbnail.jpg
END:VEVENT
END:VCALENDAR