BEGIN:VCALENDAR
VERSION:2.0
PRODID:-//iBlooming - ECPv6.14.1//NONSGML v1.0//EN
CALSCALE:GREGORIAN
METHOD:PUBLISH
X-ORIGINAL-URL:http://iblooming.ai/id
X-WR-CALDESC:Events for iBlooming
REFRESH-INTERVAL;VALUE=DURATION:PT1H
X-Robots-Tag:noindex
X-PUBLISHED-TTL:PT1H
BEGIN:VTIMEZONE
TZID:Asia/Hong_Kong
BEGIN:STANDARD
TZOFFSETFROM:+0800
TZOFFSETTO:+0800
TZNAME:HKT
DTSTART:20250101T000000
END:STANDARD
END:VTIMEZONE
BEGIN:VEVENT
DTSTART;TZID=Asia/Hong_Kong:20251210T200000
DTEND;TZID=Asia/Hong_Kong:20251210T210000
DTSTAMP:20260422T083255
CREATED:20251203T072609Z
LAST-MODIFIED:20251203T072609Z
UID:10000224-1765396800-1765400400@iblooming.ai
SUMMARY:Sustainable Living:  An Altruistic Approach to Life or a Surviving Strategy?
DESCRIPTION:Explore “Sustainable Living: An Altruistic Approach to Life or a Surviving Strategy?” with Yuri Romero Hurtado\, B.A.Sc.\, M.Sc.\, as we dive into the deeper motivations behind sustainable lifestyles in today’s rapidly changing world. This session will uncover how sustainability reflects not only a moral responsibility but also a practical response to environmental and social pressures. \nLearn how conscious living shapes communities\, protects the planet\, and supports long-term well-being—helping us navigate whether sustainability is a choice of compassion\, a necessity for survival\, or both. \nSpoken Language: English\nTime: 7:00 – 8:00 PM (GMT+7 JKT / KH)   |  8:00 – 9:00 PM (GMT+8 HK / MY)
URL:http://iblooming.ai/id/event/sustainable-living-an-altruistic-approach-to-life-or-a-surviving-strategy/
CATEGORIES:OnLive
ATTACH;FMTTYPE=image/jpeg:https://iblooming.ai/wp-content/uploads/2025/12/1210t.jpg
ORGANIZER;CN="iLearn":MAILTO:cs@iblooming.ai
END:VEVENT
END:VCALENDAR