BEGIN:VCALENDAR
VERSION:2.0
PRODID:-//iBlooming - ECPv6.14.1//NONSGML v1.0//EN
CALSCALE:GREGORIAN
METHOD:PUBLISH
X-ORIGINAL-URL:http://iblooming.ai/id
X-WR-CALDESC:Events for iBlooming
REFRESH-INTERVAL;VALUE=DURATION:PT1H
X-Robots-Tag:noindex
X-PUBLISHED-TTL:PT1H
BEGIN:VTIMEZONE
TZID:Asia/Hong_Kong
BEGIN:STANDARD
TZOFFSETFROM:+0800
TZOFFSETTO:+0800
TZNAME:HKT
DTSTART:20250101T000000
END:STANDARD
END:VTIMEZONE
BEGIN:VEVENT
DTSTART;TZID=Asia/Hong_Kong:20251217T200000
DTEND;TZID=Asia/Hong_Kong:20251217T210000
DTSTAMP:20260423T094145
CREATED:20251126T013956Z
LAST-MODIFIED:20251126T014320Z
UID:10000208-1766001600-1766005200@iblooming.ai
SUMMARY:Level Up Your Video Editing Skill with Capcut
DESCRIPTION:Discover “Level Up Your Video Editing Skill with CapCut” with Fatimah Tusa’adah\, as we dive into practical tools and techniques to make your videos stand out in today’s digital landscape. This session will guide you step-by-step on how to edit faster\, enhance storytelling\, and create visually compelling content—even with just your phone. \nLearn how to turn simple clips into professional-quality videos\, boost your online presence\, and express your creativity with confidence using CapCut. \nSpoken Language: Indonesian\nTime: 7:00 – 8:00 PM (GMT+7 JKT / KH)   |  8:00 – 9:00 PM (GMT+8 HK / MY)
URL:http://iblooming.ai/id/event/level-up-your-video-editing-skill-with-capcut/
CATEGORIES:OnLive
ATTACH;FMTTYPE=image/jpeg:https://iblooming.ai/wp-content/uploads/2025/11/1217T.jpg
ORGANIZER;CN="iLearn":MAILTO:cs@iblooming.ai
END:VEVENT
END:VCALENDAR