BEGIN:VCALENDAR
VERSION:2.0
PRODID:-//iBlooming - ECPv6.14.1//NONSGML v1.0//EN
CALSCALE:GREGORIAN
METHOD:PUBLISH
X-ORIGINAL-URL:http://iblooming.ai/id
X-WR-CALDESC:Events for iBlooming
REFRESH-INTERVAL;VALUE=DURATION:PT1H
X-Robots-Tag:noindex
X-PUBLISHED-TTL:PT1H
BEGIN:VTIMEZONE
TZID:Asia/Hong_Kong
BEGIN:STANDARD
TZOFFSETFROM:+0800
TZOFFSETTO:+0800
TZNAME:HKT
DTSTART:20260101T000000
END:STANDARD
END:VTIMEZONE
BEGIN:VEVENT
DTSTART;TZID=Asia/Hong_Kong:20260113T200000
DTEND;TZID=Asia/Hong_Kong:20260113T210000
DTSTAMP:20260423T054732
CREATED:20260105T022339Z
LAST-MODIFIED:20260112T044108Z
UID:10000275-1768334400-1768338000@iblooming.ai
SUMMARY:YaYa & WaWa: The Leader and The Negotiator  Leading with confidence\, negotiating with clarity
DESCRIPTION:Explore “YaYa & WaWa: The Leader and The Negotiator – Leading with Confidence\, Negotiating with Clarity” with Ivan Tsui\, as we uncover how different personality styles shape leadership and negotiation effectiveness. This session will reveal strategies to leverage your strengths\, understand others\, and make decisions that inspire trust and results. \nLearn how to lead with confidence and negotiate with clarity—harnessing personality insights to build stronger relationships\, influence outcomes\, and achieve success in both professional and personal contexts. \nJoin Zoom Meeting: https://tinyurl.com/GiMTuesday\n \nSpoken Language: Cantonese\nTime: 7:00 – 8:00 PM (GMT+7 JKT / KH)   |  8:00 – 9:00 PM (GMT+8 HK / MY)
URL:http://iblooming.ai/id/event/stay-tuned-23/
CATEGORIES:OnLive
ATTACH;FMTTYPE=image/jpeg:https://iblooming.ai/wp-content/uploads/2026/01/Thumbnail-4.jpg
ORGANIZER;CN="iLearn":MAILTO:cs@iblooming.ai
END:VEVENT
END:VCALENDAR