BEGIN:VCALENDAR
VERSION:2.0
PRODID:-//iBlooming - ECPv6.14.1//NONSGML v1.0//EN
CALSCALE:GREGORIAN
METHOD:PUBLISH
X-WR-CALNAME:iBlooming
X-ORIGINAL-URL:http://iblooming.ai/id
X-WR-CALDESC:Events for iBlooming
REFRESH-INTERVAL;VALUE=DURATION:PT1H
X-Robots-Tag:noindex
X-PUBLISHED-TTL:PT1H
BEGIN:VTIMEZONE
TZID:Asia/Hong_Kong
BEGIN:STANDARD
TZOFFSETFROM:+0800
TZOFFSETTO:+0800
TZNAME:HKT
DTSTART:20260101T000000
END:STANDARD
END:VTIMEZONE
BEGIN:VEVENT
DTSTART;TZID=Asia/Hong_Kong:20260126T180000
DTEND;TZID=Asia/Hong_Kong:20260126T190000
DTSTAMP:20260422T170425
CREATED:20260116T023332Z
LAST-MODIFIED:20260116T023332Z
UID:10000281-1769450400-1769454000@iblooming.ai
SUMMARY:Discipleship: Mission & Gen-Z
DESCRIPTION:Engage with “Discipleship: Mission & Gen-Z” alongside Dr. Joni Gultom\, M.Th\, as we examine how discipleship can remain relevant and impactful for today’s younger generation. This session explores the mindset\, values\, and challenges of Gen-Z in a rapidly changing world. \nUncover approaches to nurture authentic faith\, build meaningful relationships\, and inspire Gen-Z to live out their mission with purpose\, resilience\, and influence in everyday life. \nSpoken Language: Indonesian \nTime: 5:00 – 6:00 PM (GMT+7 JKT / KH)   |  6:00 – 7:00 PM (GMT+8 HK / MY)
URL:http://iblooming.ai/id/event/discipleship-mission-gen-z/
LOCATION:Business School
CATEGORIES:OnLive
ATTACH;FMTTYPE=image/jpeg:https://iblooming.ai/wp-content/uploads/2026/01/0126t.jpg
END:VEVENT
BEGIN:VEVENT
DTSTART;TZID=Asia/Hong_Kong:20260126T200000
DTEND;TZID=Asia/Hong_Kong:20260126T210000
DTSTAMP:20260422T170425
CREATED:20251229T043455Z
LAST-MODIFIED:20260106T020912Z
UID:10000272-1769457600-1769461200@iblooming.ai
SUMMARY:Value Investing: How Real Investors Think \, Analyze & Decide  Building a value investing Portfolio
DESCRIPTION:Master “Value Investing: How Real Investors Think\, Analyze & Decide – Building a Value Investing Portfolio” with Fery Setiawan\, as we explore how to construct a diversified portfolio that aligns with long-term investment goals. This session will reveal strategies for selecting undervalued assets\, managing risk\, and optimizing returns. \nLearn how to build a resilient value investing portfolio—balancing analysis\, discipline\, and strategic allocation to create sustainable wealth over time. \nSpoken Language: Indonesia\nTime: 7:00 – 8:00 PM (GMT+7 JKT / KH)   |  8:00 – 9:00 PM (GMT+8 HK / MY)
URL:http://iblooming.ai/id/event/value-investing-how-real-investors-think-analyze-decide-building-a-value-investing-portfolio/
LOCATION:Business School
CATEGORIES:OnLive
ATTACH;FMTTYPE=image/jpeg:https://iblooming.ai/wp-content/uploads/2025/12/0126t-1.jpg
ORGANIZER;CN="iLearn":MAILTO:cs@iblooming.ai
END:VEVENT
END:VCALENDAR