BEGIN:VCALENDAR
VERSION:2.0
PRODID:-//iBlooming - ECPv6.14.1//NONSGML v1.0//EN
CALSCALE:GREGORIAN
METHOD:PUBLISH
X-ORIGINAL-URL:http://iblooming.ai/id
X-WR-CALDESC:Events for iBlooming
REFRESH-INTERVAL;VALUE=DURATION:PT1H
X-Robots-Tag:noindex
X-PUBLISHED-TTL:PT1H
BEGIN:VTIMEZONE
TZID:Asia/Hong_Kong
BEGIN:STANDARD
TZOFFSETFROM:+0800
TZOFFSETTO:+0800
TZNAME:HKT
DTSTART:20250101T000000
END:STANDARD
END:VTIMEZONE
BEGIN:VEVENT
DTSTART;VALUE=DATE:20251214
DTEND;VALUE=DATE:20251215
DTSTAMP:20260423T055807
CREATED:20251113T013110Z
LAST-MODIFIED:20251113T013110Z
UID:10000190-1765670400-1765756799@iblooming.ai
SUMMARY:Break & Breathe
DESCRIPTION:Release · Rest · Return
URL:http://iblooming.ai/id/event/break-breathe-9/
ATTACH;FMTTYPE=image/png:https://iblooming.ai/wp-content/uploads/2025/07/iLearn-Break.png
END:VEVENT
BEGIN:VEVENT
DTSTART;TZID=Asia/Hong_Kong:20251215T200000
DTEND;TZID=Asia/Hong_Kong:20251215T210000
DTSTAMP:20260423T055807
CREATED:20251209T011635Z
LAST-MODIFIED:20251209T011635Z
UID:10000227-1765828800-1765832400@iblooming.ai
SUMMARY:AI in Action: Driving Business Success
DESCRIPTION:Explore “AI in Action: Driving Business Success” with Fajri Adhi Nugroho\, as we uncover how practical AI applications can transform operations\, enhance decision-making\, and unlock new growth opportunities. This session will highlight real-world strategies for using AI to optimize processes\, boost efficiency\, and create smarter business solutions. \nLearn how to integrate AI into your daily workflow—turning data into insight\, automation into advantage\, and innovation into measurable business impact. \nSpoken Language: Indonesia\nTime: 7:00 – 8:00 PM (GMT+7 JKT / KH)   |  8:00 – 9:00 PM (GMT+8 HK / MY)
URL:http://iblooming.ai/id/event/ai-in-action-driving-business-success/
LOCATION:Business School
CATEGORIES:OnLive
ATTACH;FMTTYPE=image/jpeg:https://iblooming.ai/wp-content/uploads/2025/12/Thumbnail-1.jpg
ORGANIZER;CN="iLearn":MAILTO:cs@iblooming.ai
END:VEVENT
BEGIN:VEVENT
DTSTART;TZID=Asia/Hong_Kong:20251216T200000
DTEND;TZID=Asia/Hong_Kong:20251216T210000
DTSTAMP:20260423T055807
CREATED:20251204T095423Z
LAST-MODIFIED:20251212T085401Z
UID:10000226-1765915200-1765918800@iblooming.ai
SUMMARY:Ely World: The Heaven on Earth Realm of The Kingdom of Life
DESCRIPTION:Join us for  “Ely World: The Heaven on Earth Realm of The Kingdom of Life” with Dr. Yingrudee Bhumisiriratanavadi and Onggy Hianata\, as we journey into a vision of human potential\, spiritual elevation\, and global harmony. This session will illuminate the principles behind the Ely World—where love\, kindness\, and higher consciousness shape a transformative way of living. \nLearn how to cultivate inner alignment\, awaken purpose\, and contribute to a world rooted in peace\, compassion\, and collective well-being—bringing the ideals of a “heaven on earth” into everyday life. \nJoin Zoom Meeting: https://tinyurl.com/GiMTuesday\n \nSpoken Language: English\nTime: 7:00 – 8:00 PM (GMT+7 JKT / KH)   |  8:00 – 9:00 PM (GMT+8 HK / MY)
URL:http://iblooming.ai/id/event/stay-tuned-22/
CATEGORIES:OnLive
ATTACH;FMTTYPE=image/jpeg:https://iblooming.ai/wp-content/uploads/2025/12/Thumbnail-1-1.jpg
ORGANIZER;CN="iLearn":MAILTO:cs@iblooming.ai
END:VEVENT
BEGIN:VEVENT
DTSTART;TZID=Asia/Hong_Kong:20251217T200000
DTEND;TZID=Asia/Hong_Kong:20251217T210000
DTSTAMP:20260423T055807
CREATED:20251126T013956Z
LAST-MODIFIED:20251126T014320Z
UID:10000208-1766001600-1766005200@iblooming.ai
SUMMARY:Level Up Your Video Editing Skill with Capcut
DESCRIPTION:Discover “Level Up Your Video Editing Skill with CapCut” with Fatimah Tusa’adah\, as we dive into practical tools and techniques to make your videos stand out in today’s digital landscape. This session will guide you step-by-step on how to edit faster\, enhance storytelling\, and create visually compelling content—even with just your phone. \nLearn how to turn simple clips into professional-quality videos\, boost your online presence\, and express your creativity with confidence using CapCut. \nSpoken Language: Indonesian\nTime: 7:00 – 8:00 PM (GMT+7 JKT / KH)   |  8:00 – 9:00 PM (GMT+8 HK / MY)
URL:http://iblooming.ai/id/event/level-up-your-video-editing-skill-with-capcut/
CATEGORIES:OnLive
ATTACH;FMTTYPE=image/jpeg:https://iblooming.ai/wp-content/uploads/2025/11/1217T.jpg
ORGANIZER;CN="iLearn":MAILTO:cs@iblooming.ai
END:VEVENT
BEGIN:VEVENT
DTSTART;TZID=Asia/Hong_Kong:20251218T180000
DTEND;TZID=Asia/Hong_Kong:20251218T190000
DTSTAMP:20260423T055807
CREATED:20251126T024044Z
LAST-MODIFIED:20251126T024044Z
UID:10000214-1766080800-1766084400@iblooming.ai
SUMMARY:Monetize Your Experience - Reinvent with AI!
DESCRIPTION:Discover “Monetize Your Experience – Reinvent with AI!” with Jane Chew\, as we explore how artificial intelligence can help you transform your skills\, knowledge\, and experience into new opportunities. This session will reveal practical ways to leverage AI tools to create value\, streamline processes\, and reach wider audiences. \nLearn how to reinvent your career or business by combining your expertise with AI—unlocking innovative ways to generate income\, expand impact\, and stay ahead in a rapidly evolving digital world. \n  \nSpoken Language: English\nTime: 5:00 – 6:00 PM (GMT+7 JKT / KH)   |  6:00 – 7:00 PM (GMT+8 HK / MY)
URL:http://iblooming.ai/id/event/monetize-your-experience-reinvent-with-ai/
CATEGORIES:OnLive
ATTACH;FMTTYPE=image/jpeg:https://iblooming.ai/wp-content/uploads/2025/11/1218t-1.jpg
ORGANIZER;CN="iLearn":MAILTO:cs@iblooming.ai
END:VEVENT
BEGIN:VEVENT
DTSTART;TZID=Asia/Hong_Kong:20251218T200000
DTEND;TZID=Asia/Hong_Kong:20251218T210000
DTSTAMP:20260423T055807
CREATED:20251126T023115Z
LAST-MODIFIED:20251126T023115Z
UID:10000211-1766088000-1766091600@iblooming.ai
SUMMARY:COUNSELING FOR VARIOUS ISSUES (I) Stress\, Depression\, Anger\, Guilt
DESCRIPTION:Discover “Counseling for Various Issues (I): Stress\, Depression\, Anger\, Guilt” with Dr. Rivosa Santosa\, M.Th\, as we explore effective approaches to address common emotional and psychological challenges. This session will highlight strategies for understanding\, supporting\, and guiding individuals through stress\, depression\, anger\, and guilt. \nLearn how to apply practical counseling techniques with empathy and insight—helping counselees navigate difficult emotions\, find healing\, and regain balance in their lives. \n\n\n\n\n\n\n\n\n\n\n\nSpoken Language: Indonesian\nTime: 8:00 PM (GMT+7 JKT / KH)   |  9:00 PM (GMT+8 HK / MY)
URL:http://iblooming.ai/id/event/counseling-for-various-issues-i-stress-depression-anger-guilt/
CATEGORIES:OnLive
ATTACH;FMTTYPE=image/jpeg:https://iblooming.ai/wp-content/uploads/2025/11/1218t.jpg
ORGANIZER;CN="iLearn":MAILTO:cs@iblooming.ai
END:VEVENT
BEGIN:VEVENT
DTSTART;TZID=Asia/Hong_Kong:20251218T223000
DTEND;TZID=Asia/Hong_Kong:20251218T235900
DTSTAMP:20260423T055807
CREATED:20251113T014007Z
LAST-MODIFIED:20251113T014104Z
UID:10000196-1766097000-1766102340@iblooming.ai
SUMMARY:Supper and Mindfulness Pt 7
DESCRIPTION:Experience “Supper and Mindfulness Pt 7” with Onggy Hianata\, an inspiring session that invites you to slow down\, reflect\, and rediscover the beauty of being present. Through mindful sharing and heartfelt reflection\, this session will explore how awareness and gratitude can transform the way we think\, feel\, and connect with others. \nDiscover how simple moments—when embraced with mindfulness—can bring deeper peace\, clarity\, and joy to your daily life\, nurturing both inner calm and meaningful connection with the world around you. \nSpoken Language: Indonesia\nTime: 9:300 – 11:00 PM (GMT+7 JKT / KH)   |  10:30PM – 12:00 AM (GMT+8 HK / MY) \n 
URL:http://iblooming.ai/id/event/supper-and-mindfulness-pt7/
CATEGORIES:OnLive
ATTACH;FMTTYPE=image/jpeg:https://iblooming.ai/wp-content/uploads/2025/11/Supper_Launch_Thumbnail.jpg
END:VEVENT
BEGIN:VEVENT
DTSTART;TZID=Asia/Hong_Kong:20251219T160000
DTEND;TZID=Asia/Hong_Kong:20251219T170000
DTSTAMP:20260423T055807
CREATED:20251126T025143Z
LAST-MODIFIED:20251126T025143Z
UID:10000217-1766160000-1766163600@iblooming.ai
SUMMARY:Buttercream Flowers for any occasion
DESCRIPTION:Explore “Buttercream Flowers for Any Occasion” with Soraya Ambadar\, as we dive into the art of crafting beautiful\, edible floral designs. This session will guide you step-by-step on creating stunning buttercream flowers that can elevate cakes and desserts for any celebration. \nLearn how to transform simple ingredients into elegant\, eye-catching creations—combining creativity\, skill\, and presentation to delight both the eyes and the taste buds. \nSpoken Language: Indonesian\nTime: 3:00 – 4:00 PM (GMT+7 JKT / KH)   |  4:00 – 5:00 PM (GMT+8 HK / MY)
URL:http://iblooming.ai/id/event/buttercream-flowers-for-any-occasion/
CATEGORIES:OnLive
ATTACH;FMTTYPE=image/jpeg:https://iblooming.ai/wp-content/uploads/2025/11/1219t.jpg
ORGANIZER;CN="iLearn":MAILTO:cs@iblooming.ai
END:VEVENT
BEGIN:VEVENT
DTSTART;TZID=Asia/Hong_Kong:20251220T120000
DTEND;TZID=Asia/Hong_Kong:20251220T130000
DTSTAMP:20260423T055807
CREATED:20251126T032255Z
LAST-MODIFIED:20251126T032255Z
UID:10000221-1766232000-1766235600@iblooming.ai
SUMMARY:The Power of Your Thoughts: Building Up or Breaking Down
DESCRIPTION:Explore “The Power of Your Thoughts: Building Up or Breaking Down” with dr. I Wayan Mustika\, as we delve into how your mindset directly influences your emotions\, actions\, and life outcomes. This session will uncover the ways in which positive and negative thought patterns can either empower or limit you. \nLearn how to cultivate constructive thinking—transforming mental habits into sources of strength\, resilience\, and purposeful action to create a more fulfilling and balanced life. \nSpoken Language: Indonesian\nTime: 12:00 PM (GMT+7 JKT / KH)   |  1:00 PM (GMT+8 HK / MY)
URL:http://iblooming.ai/id/event/the-power-of-your-thoughts-building-up-or-breaking-down-2/
CATEGORIES:OnLive
ATTACH;FMTTYPE=image/jpeg:https://iblooming.ai/wp-content/uploads/2025/11/1220t-1.jpg
ORGANIZER;CN="iLearn":MAILTO:cs@iblooming.ai
END:VEVENT
BEGIN:VEVENT
DTSTART;VALUE=DATE:20251221
DTEND;VALUE=DATE:20251222
DTSTAMP:20260423T055807
CREATED:20251113T013121Z
LAST-MODIFIED:20251113T013121Z
UID:10000191-1766275200-1766361599@iblooming.ai
SUMMARY:Break & Breathe
DESCRIPTION:Release · Rest · Return
URL:http://iblooming.ai/id/event/break-breathe-10/
ATTACH;FMTTYPE=image/png:https://iblooming.ai/wp-content/uploads/2025/07/iLearn-Break.png
END:VEVENT
BEGIN:VEVENT
DTSTART;VALUE=DATE:20251222
DTEND;VALUE=DATE:20251223
DTSTAMP:20260423T055807
CREATED:20251209T085718Z
LAST-MODIFIED:20251216T033602Z
UID:10000228-1766361600-1766447999@iblooming.ai
SUMMARY:iLearn Break
DESCRIPTION:iLearn return on Monday (5-Jan-2026)
URL:http://iblooming.ai/id/event/ilearn-break-7/
ATTACH;FMTTYPE=image/jpeg:https://iblooming.ai/wp-content/uploads/2025/12/iLearn-Break_Socmed_Thumbnail-1.jpg
END:VEVENT
BEGIN:VEVENT
DTSTART;VALUE=DATE:20251223
DTEND;VALUE=DATE:20251224
DTSTAMP:20260423T055807
CREATED:20251125T093854Z
LAST-MODIFIED:20251216T033647Z
UID:10000200-1766448000-1766534399@iblooming.ai
SUMMARY:iLearn Break
DESCRIPTION:iLearn return on Monday (5-Jan-2026)
URL:http://iblooming.ai/id/event/ilearn-break-3/
ATTACH;FMTTYPE=image/jpeg:https://iblooming.ai/wp-content/uploads/2025/12/iLearn-Break_Socmed_Thumbnail-1.jpg
END:VEVENT
BEGIN:VEVENT
DTSTART;VALUE=DATE:20251224
DTEND;VALUE=DATE:20251225
DTSTAMP:20260423T055807
CREATED:20251125T093856Z
LAST-MODIFIED:20251216T033700Z
UID:10000201-1766534400-1766620799@iblooming.ai
SUMMARY:iLearn Break
DESCRIPTION:iLearn return on Monday (5-Jan-2026)
URL:http://iblooming.ai/id/event/ilearn-break-4/
ATTACH;FMTTYPE=image/jpeg:https://iblooming.ai/wp-content/uploads/2025/12/iLearn-Break_Socmed_Thumbnail-1.jpg
END:VEVENT
BEGIN:VEVENT
DTSTART;VALUE=DATE:20251225
DTEND;VALUE=DATE:20251226
DTSTAMP:20260423T055807
CREATED:20251125T093858Z
LAST-MODIFIED:20251216T033712Z
UID:10000202-1766620800-1766707199@iblooming.ai
SUMMARY:iLearn Break
DESCRIPTION:iLearn return on Monday (5-Jan-2026)
URL:http://iblooming.ai/id/event/ilearn-break-5/
ATTACH;FMTTYPE=image/jpeg:https://iblooming.ai/wp-content/uploads/2025/12/iLearn-Break_Socmed_Thumbnail-1.jpg
END:VEVENT
BEGIN:VEVENT
DTSTART;VALUE=DATE:20251226
DTEND;VALUE=DATE:20251227
DTSTAMP:20260423T055807
CREATED:20251125T093900Z
LAST-MODIFIED:20251216T033723Z
UID:10000203-1766707200-1766793599@iblooming.ai
SUMMARY:iLearn Break
DESCRIPTION:iLearn return on Saturday (27-Dec-2025)
URL:http://iblooming.ai/id/event/ilearn-break-6/
ATTACH;FMTTYPE=image/jpeg:https://iblooming.ai/wp-content/uploads/2025/12/iLearn-Break_Socmed_Thumbnail-1.jpg
END:VEVENT
BEGIN:VEVENT
DTSTART;VALUE=DATE:20251227
DTEND;VALUE=DATE:20251228
DTSTAMP:20260423T055807
CREATED:20251209T090039Z
LAST-MODIFIED:20251216T033735Z
UID:10000229-1766793600-1766879999@iblooming.ai
SUMMARY:iLearn Break
DESCRIPTION:iLearn return on Monday (5-Jan-2026)
URL:http://iblooming.ai/id/event/ilearn-break-8/
ATTACH;FMTTYPE=image/jpeg:https://iblooming.ai/wp-content/uploads/2025/12/iLearn-Break_Socmed_Thumbnail-1.jpg
END:VEVENT
BEGIN:VEVENT
DTSTART;VALUE=DATE:20251228
DTEND;VALUE=DATE:20251229
DTSTAMP:20260423T055807
CREATED:20251113T013130Z
LAST-MODIFIED:20251113T013227Z
UID:10000192-1766880000-1766966399@iblooming.ai
SUMMARY:Break & Breathe
DESCRIPTION:Release · Rest · Return
URL:http://iblooming.ai/id/event/break-breathe-11/
ATTACH;FMTTYPE=image/png:https://iblooming.ai/wp-content/uploads/2025/07/iLearn-Break.png
END:VEVENT
BEGIN:VEVENT
DTSTART;VALUE=DATE:20251229
DTEND;VALUE=DATE:20251230
DTSTAMP:20260423T055807
CREATED:20251209T090110Z
LAST-MODIFIED:20251216T033746Z
UID:10000230-1766966400-1767052799@iblooming.ai
SUMMARY:iLearn Break
DESCRIPTION:iLearn return on Monday (5-Jan-2026)
URL:http://iblooming.ai/id/event/ilearn-break-9/
ATTACH;FMTTYPE=image/jpeg:https://iblooming.ai/wp-content/uploads/2025/12/iLearn-Break_Socmed_Thumbnail-1.jpg
END:VEVENT
BEGIN:VEVENT
DTSTART;VALUE=DATE:20251230
DTEND;VALUE=DATE:20251231
DTSTAMP:20260423T055807
CREATED:20251209T090114Z
LAST-MODIFIED:20251216T033757Z
UID:10000231-1767052800-1767139199@iblooming.ai
SUMMARY:iLearn Break
DESCRIPTION:iLearn return on Monday (5-Jan-2026)
URL:http://iblooming.ai/id/event/ilearn-break-10/
ATTACH;FMTTYPE=image/jpeg:https://iblooming.ai/wp-content/uploads/2025/12/iLearn-Break_Socmed_Thumbnail-1.jpg
END:VEVENT
BEGIN:VEVENT
DTSTART;VALUE=DATE:20251231
DTEND;VALUE=DATE:20260101
DTSTAMP:20260423T055807
CREATED:20251209T090119Z
LAST-MODIFIED:20251216T033808Z
UID:10000232-1767139200-1767225599@iblooming.ai
SUMMARY:iLearn Break
DESCRIPTION:iLearn return on Monday (5-Jan-2026)
URL:http://iblooming.ai/id/event/ilearn-break-11/
ATTACH;FMTTYPE=image/jpeg:https://iblooming.ai/wp-content/uploads/2025/12/iLearn-Break_Socmed_Thumbnail-1.jpg
END:VEVENT
BEGIN:VEVENT
DTSTART;VALUE=DATE:20260101
DTEND;VALUE=DATE:20260102
DTSTAMP:20260423T055807
CREATED:20251209T090124Z
LAST-MODIFIED:20251216T033822Z
UID:10000233-1767225600-1767311999@iblooming.ai
SUMMARY:iLearn Break
DESCRIPTION:iLearn return on Monday (5-Jan-2026)
URL:http://iblooming.ai/id/event/ilearn-break-12/
ATTACH;FMTTYPE=image/jpeg:https://iblooming.ai/wp-content/uploads/2025/12/iLearn-Break_Socmed_Thumbnail-1.jpg
END:VEVENT
BEGIN:VEVENT
DTSTART;VALUE=DATE:20260102
DTEND;VALUE=DATE:20260103
DTSTAMP:20260423T055807
CREATED:20251209T090130Z
LAST-MODIFIED:20251216T033834Z
UID:10000234-1767312000-1767398399@iblooming.ai
SUMMARY:iLearn Break
DESCRIPTION:iLearn return on Monday (5-Jan-2026)
URL:http://iblooming.ai/id/event/ilearn-break-13/
ATTACH;FMTTYPE=image/jpeg:https://iblooming.ai/wp-content/uploads/2025/12/iLearn-Break_Socmed_Thumbnail-1.jpg
END:VEVENT
BEGIN:VEVENT
DTSTART;VALUE=DATE:20260103
DTEND;VALUE=DATE:20260104
DTSTAMP:20260423T055807
CREATED:20251209T090138Z
LAST-MODIFIED:20251216T033847Z
UID:10000235-1767398400-1767484799@iblooming.ai
SUMMARY:iLearn Break
DESCRIPTION:iLearn return on Monday (5-Jan-2026)
URL:http://iblooming.ai/id/event/ilearn-break-14/
ATTACH;FMTTYPE=image/jpeg:https://iblooming.ai/wp-content/uploads/2025/12/iLearn-Break_Socmed_Thumbnail-1.jpg
END:VEVENT
BEGIN:VEVENT
DTSTART;VALUE=DATE:20260104
DTEND;VALUE=DATE:20260105
DTSTAMP:20260423T055807
CREATED:20251113T013140Z
LAST-MODIFIED:20251113T013140Z
UID:10000193-1767484800-1767571199@iblooming.ai
SUMMARY:Break & Breathe
DESCRIPTION:Release · Rest · Return
URL:http://iblooming.ai/id/event/break-breathe-12/
ATTACH;FMTTYPE=image/png:https://iblooming.ai/wp-content/uploads/2025/07/iLearn-Break.png
END:VEVENT
BEGIN:VEVENT
DTSTART;TZID=Asia/Hong_Kong:20260105T200000
DTEND;TZID=Asia/Hong_Kong:20260105T210000
DTSTAMP:20260423T055807
CREATED:20251229T042434Z
LAST-MODIFIED:20251229T042434Z
UID:10000269-1767643200-1767646800@iblooming.ai
SUMMARY:Value Investing: How Real Investors Think \, Analyze & Decide  Thinking Like a Real Investor
DESCRIPTION:Master “Value Investing: How Real Investors Think\, Analyze & Decide – Thinking Like a Real Investor” with Fery Setiawan\, as we explore the mindset\, strategies\, and analytical approaches that successful investors use to make informed decisions. This session will reveal how to evaluate opportunities\, assess risks\, and identify undervalued assets for long-term growth. \nLearn how to think like a seasoned investor—developing the discipline\, insight\, and decision-making skills needed to build sustainable wealth and make confident investment choices. \nSpoken Language: Indonesia\nTime: 7:00 – 8:00 PM (GMT+7 JKT / KH)   |  8:00 – 9:00 PM (GMT+8 HK / MY)
URL:http://iblooming.ai/id/event/value-investing-how-real-investors-think-analyze-decide-thinking-like-a-real-investor/
LOCATION:Business School
CATEGORIES:OnLive
ATTACH;FMTTYPE=image/jpeg:https://iblooming.ai/wp-content/uploads/2025/12/0105t.jpg
ORGANIZER;CN="iLearn":MAILTO:cs@iblooming.ai
END:VEVENT
BEGIN:VEVENT
DTSTART;TZID=Asia/Hong_Kong:20260106T200000
DTEND;TZID=Asia/Hong_Kong:20260106T210000
DTSTAMP:20260423T055807
CREATED:20260102T094656Z
LAST-MODIFIED:20260105T014553Z
UID:10000274-1767729600-1767733200@iblooming.ai
SUMMARY:Meet Your iBommie: Decode Your Energy and Personality with iBommie AI
DESCRIPTION:Uncover “Meet Your iBommie: Decode Your Energy and Personality with iBommie AI” with Ivan Tsui\, as we explore how AI can provide unique insights into your personality\, strengths\, and energy patterns. This session will reveal how understanding yourself through iBommie can enhance personal growth\, relationships\, and decision-making. \nLearn how to leverage AI-driven self-discovery—turning insights into actionable strategies to align your energy\, optimize your potential\, and navigate life with greater clarity and confidence. \nJoin Zoom Meeting: https://tinyurl.com/GiMTuesday\n \nSpoken Language: Cantonese\nTime: 7:00 – 8:00 PM (GMT+7 JKT / KH)   |  8:00 – 9:00 PM (GMT+8 HK / MY)
URL:http://iblooming.ai/id/event/meet-your-ibommie-decode-your-energy-and-personality-with-ibommie-ai/
CATEGORIES:OnLive
ATTACH;FMTTYPE=image/jpeg:https://iblooming.ai/wp-content/uploads/2026/01/Thumbnail-2.jpg
ORGANIZER;CN="iLearn":MAILTO:cs@iblooming.ai
END:VEVENT
BEGIN:VEVENT
DTSTART;TZID=Asia/Hong_Kong:20260107T200000
DTEND;TZID=Asia/Hong_Kong:20260107T210000
DTSTAMP:20260423T055807
CREATED:20251226T025609Z
LAST-MODIFIED:20251226T025609Z
UID:10000257-1767816000-1767819600@iblooming.ai
SUMMARY:The Perfect Speech Class For Those Who Don’t Like To Speak: The Fundamentals of Speaking
DESCRIPTION:Explore “The Perfect Speech Class For Those Who Don’t Like To Speak: The Fundamentals of Speaking” with Fursey Gotuaco\, as we break down the essentials of clear\, confident communication in a supportive and practical way. This session is designed especially for those who feel nervous or uncomfortable speaking in front of others. \nLearn the core fundamentals of speaking—from managing nerves to structuring your message—so you can communicate with greater ease\, authenticity\, and confidence in everyday conversations and presentations. \nSpoken Language: English\nTime: 7:00 – 8:00 PM (GMT+7 JKT / KH)   |  8:00 – 9:00 PM (GMT+8 HK / MY)
URL:http://iblooming.ai/id/event/the-perfect-speech-class-for-those-who-dont-like-to-speak-the-fundamentals-of-speaking/
CATEGORIES:OnLive
ATTACH;FMTTYPE=image/jpeg:https://iblooming.ai/wp-content/uploads/2025/12/0107t.jpg
ORGANIZER;CN="iLearn":MAILTO:cs@iblooming.ai
END:VEVENT
BEGIN:VEVENT
DTSTART;TZID=Asia/Hong_Kong:20260108T180000
DTEND;TZID=Asia/Hong_Kong:20260108T190000
DTSTAMP:20260423T055807
CREATED:20251226T033206Z
LAST-MODIFIED:20251226T033206Z
UID:10000261-1767895200-1767898800@iblooming.ai
SUMMARY:The Art of Protecting Energy
DESCRIPTION:Master “The Art of Protecting Energy” with Victoria Tunggono\, as we explore how to safeguard your mental\, emotional\, and physical energy in a demanding world. This session will reveal strategies to set healthy boundaries\, manage stress\, and maintain focus amid distractions and challenges. \nLearn how to protect and restore your energy—cultivating resilience\, clarity\, and balance so you can thrive personally and professionally without burning out.  \nSpoken Language: Indonesian\nTime: 5:00 – 6:00 PM (GMT+7 JKT / KH)   |  6:00 – 7:00 PM (GMT+8 HK / MY)
URL:http://iblooming.ai/id/event/the-art-of-protecting-energy/
CATEGORIES:OnLive
ATTACH;FMTTYPE=image/jpeg:https://iblooming.ai/wp-content/uploads/2025/12/0108t-1.jpg
ORGANIZER;CN="iLearn":MAILTO:cs@iblooming.ai
END:VEVENT
BEGIN:VEVENT
DTSTART;TZID=Asia/Hong_Kong:20260108T200000
DTEND;TZID=Asia/Hong_Kong:20260108T210000
DTSTAMP:20260423T055807
CREATED:20251219T085024Z
LAST-MODIFIED:20260105T013934Z
UID:10000236-1767902400-1767906000@iblooming.ai
SUMMARY:FAMILY COUNSELING (+ Divorce\, Domestic Violence)
DESCRIPTION:Explore “Family Counseling (+ Divorce\, Domestic Violence)” with Dr. Rubin Adi Abraham\, M.Th\, as we examine compassionate and responsible approaches to supporting families facing deep relational challenges. This session will address sensitive issues such as divorce and domestic violence with care\, wisdom\, and ethical clarity. \nLearn how family counseling can provide guidance\, protection\, and pathways toward healing—equipping counselors\, ministry workers\, and caregivers to respond with empathy while prioritizing safety\, restoration\, and long-term well-being. \nSpoken Language: Indonesian\nTime: 8:00 PM (GMT+7 JKT / KH)   |  9:00 PM (GMT+8 HK / MY)
URL:http://iblooming.ai/id/event/family-counseling-divorce-domestic-violence/
CATEGORIES:OnLive
ATTACH;FMTTYPE=image/jpeg:https://iblooming.ai/wp-content/uploads/2025/12/0108t.jpg
ORGANIZER;CN="iLearn":MAILTO:cs@iblooming.ai
END:VEVENT
BEGIN:VEVENT
DTSTART;TZID=Asia/Hong_Kong:20260108T223000
DTEND;TZID=Asia/Hong_Kong:20260108T235900
DTSTAMP:20260423T055807
CREATED:20251219T093921Z
LAST-MODIFIED:20251219T093921Z
UID:10000253-1767911400-1767916740@iblooming.ai
SUMMARY:Supper and Mindfulness
DESCRIPTION:Experience “Supper and Mindfulness” with Onggy Hianata\, an inspiring session that invites you to slow down\, reflect\, and rediscover the beauty of being present. Through mindful sharing and heartfelt reflection\, this session will explore how awareness and gratitude can transform the way we think\, feel\, and connect with others. \nDiscover how simple moments—when embraced with mindfulness—can bring deeper peace\, clarity\, and joy to your daily life\, nurturing both inner calm and meaningful connection with the world around you. \nSpoken Language: Indonesia\nTime: 9:300 – 11:00 PM (GMT+7 JKT / KH)   |  10:30PM – 12:00 AM (GMT+8 HK / MY) \n 
URL:http://iblooming.ai/id/event/supper-and-mindfulness/
CATEGORIES:OnLive
ATTACH;FMTTYPE=image/jpeg:https://iblooming.ai/wp-content/uploads/2025/11/Supper_Launch_Thumbnail.jpg
END:VEVENT
END:VCALENDAR