BEGIN:VCALENDAR
VERSION:2.0
PRODID:-//iBlooming - ECPv6.14.1//NONSGML v1.0//EN
CALSCALE:GREGORIAN
METHOD:PUBLISH
X-WR-CALNAME:iBlooming
X-ORIGINAL-URL:http://iblooming.ai/id
X-WR-CALDESC:Events for iBlooming
REFRESH-INTERVAL;VALUE=DURATION:PT1H
X-Robots-Tag:noindex
X-PUBLISHED-TTL:PT1H
BEGIN:VTIMEZONE
TZID:Asia/Hong_Kong
BEGIN:STANDARD
TZOFFSETFROM:+0800
TZOFFSETTO:+0800
TZNAME:HKT
DTSTART:20260101T000000
END:STANDARD
END:VTIMEZONE
BEGIN:VEVENT
DTSTART;TZID=Asia/Hong_Kong:20260411T120000
DTEND;TZID=Asia/Hong_Kong:20260411T130000
DTSTAMP:20260421T111212
CREATED:20260403T024614Z
LAST-MODIFIED:20260403T024614Z
UID:10000367-1775908800-1775912400@iblooming.ai
SUMMARY:Living Right Through Real Actions
DESCRIPTION:Learn to bridge the gap between intention and impact in “Living Right Through Real Actions” with Mr. Pande Kadek Yuda Bakti. This session moves beyond abstract concepts of morality and ethics\, focusing on how personal values are truly defined by the tangible choices we make and the actions we take in our daily lives. \nDesigned for anyone looking to align their behavior with their beliefs\, this program provides a practical framework for “active living.” You will learn how to identify the small\, consistent actions that build integrity\, overcome the trap of “passive goodness\,” and develop the discipline to ensure your conduct reflects the person you strive to be in both professional and personal settings. \nSpoken Language: Indonesian\nTime: 11:00 AM (GMT+7 JKT / KH)   |  12:00 PM (GMT+8 HK / MY)
URL:http://iblooming.ai/id/event/living-right-through-real-actions/
CATEGORIES:OnLive
ATTACH;FMTTYPE=image/jpeg:https://iblooming.ai/wp-content/uploads/2026/04/Thumbnail-1-1.jpg
ORGANIZER;CN="iLearn":MAILTO:cs@iblooming.ai
END:VEVENT
BEGIN:VEVENT
DTSTART;VALUE=DATE:20260412
DTEND;VALUE=DATE:20260413
DTSTAMP:20260421T111213
CREATED:20260331T074434Z
LAST-MODIFIED:20260331T074434Z
UID:10000352-1775952000-1776038399@iblooming.ai
SUMMARY:Break & Breathe
DESCRIPTION:Release · Rest · Return
URL:http://iblooming.ai/id/event/break-breathe-25/
ATTACH;FMTTYPE=image/png:https://iblooming.ai/wp-content/uploads/2025/07/iLearn-Break.png
END:VEVENT
BEGIN:VEVENT
DTSTART;TZID=Asia/Hong_Kong:20260413T180000
DTEND;TZID=Asia/Hong_Kong:20260413T190000
DTSTAMP:20260421T111213
CREATED:20260410T051034Z
LAST-MODIFIED:20260410T051034Z
UID:10000371-1776103200-1776106800@iblooming.ai
SUMMARY:Mission Under Siege: God’s Mission in the Midst of Cosmic Battle
DESCRIPTION:Explore the spiritual realities behind outreach in “Mission Under Siege: God’s Mission in the Midst of Cosmic Battle” with Dr. Fredy Simanjuntak\, M.Th. This session reframes church mission not just as a social or organizational effort\, but as a strategic endeavor taking place within a larger spiritual conflict. \nDesigned for church leaders\, missionaries\, and believers\, this program examines the challenges and “siege” conditions that often arise during mission work. You will gain a deeper understanding of how to navigate spiritual opposition\, stay resilient in difficult environments\, and rely on divine strength to fulfill the mission despite the pressures of the “cosmic battle” surrounding it. \nSpoken Language: Indonesian \nTime: 5:00 – 6:00 PM (GMT+7 JKT / KH)   |  6:00 – 7:00 PM (GMT+8 HK / MY)
URL:http://iblooming.ai/id/event/mission-under-siege-gods-mission-in-the-midst-of-cosmic-battle/
LOCATION:Business School
CATEGORIES:OnLive
ATTACH;FMTTYPE=image/jpeg:https://iblooming.ai/wp-content/uploads/2026/04/Thumbnail-12.jpg
END:VEVENT
BEGIN:VEVENT
DTSTART;TZID=Asia/Hong_Kong:20260413T200000
DTEND;TZID=Asia/Hong_Kong:20260413T210000
DTSTAMP:20260421T111213
CREATED:20260410T045724Z
LAST-MODIFIED:20260410T045724Z
UID:10000370-1776110400-1776114000@iblooming.ai
SUMMARY:Planning Your Child’s Education Fund The Right Investment for Education Savings
DESCRIPTION:Secure your child’s academic future by choosing the most effective financial vehicles in “Planning Your Child’s Education Fund” with Leonard Agustino Wahyu. This session\, titled “The Right Investment for Education Savings\,” moves beyond simple savings accounts to explore how different asset classes can help you outpace education inflation and maximize your long-term returns. \nDesigned for parents and guardians looking for a sophisticated approach to college planning\, this program provides a clear comparison of various investment options. You will learn how to align your investment choices with your child’s age (time horizon)\, understand the balance between risk and growth\, and develop a diversified portfolio specifically tailored to meet the rising costs of higher education. \nSpoken Language: Indonesia\nTime: 7:00 – 8:00 PM (GMT+7 JKT / KH)   |  8:00 – 9:00 PM (GMT+8 HK / MY)
URL:http://iblooming.ai/id/event/planning-your-childs-education-fund-the-right-investment-for-education-savings/
LOCATION:Business School
CATEGORIES:OnLive
ATTACH;FMTTYPE=image/jpeg:https://iblooming.ai/wp-content/uploads/2026/04/Thumbnail-3-2.jpg
ORGANIZER;CN="iLearn":MAILTO:cs@iblooming.ai
END:VEVENT
BEGIN:VEVENT
DTSTART;TZID=Asia/Hong_Kong:20260414T200000
DTEND;TZID=Asia/Hong_Kong:20260414T210000
DTSTAMP:20260421T111213
CREATED:20260410T052307Z
LAST-MODIFIED:20260410T052307Z
UID:10000372-1776196800-1776200400@iblooming.ai
SUMMARY:The iBommie Love Map: Understand Each Other\, Love Better (Part 2)
DESCRIPTION:Complete the journey to emotional intelligence in “The iBommie Love Map: Understand Each Other\, Love Better (Part 2)” with Ivan Tsui. Building on the foundations of the first session\, this second part explores the remaining personality profiles\, offering a comprehensive guide to how different individuals process intimacy\, resolve conflict\, and sustain long-term affection. \nThis program is essential for those looking to master the art of “Love Mapping” across all types of relationships. You will learn to recognize the deeper emotional needs of the final character types and gain practical strategies to bridge communication gaps\, ensuring that your efforts to show care are understood and reciprocated effectively. \nJoin Zoom Meeting: https://tinyurl.com/GiMTuesday\n \nSpoken Language: Indonesian\nTime: 7:00 – 8:00 PM (GMT+7 JKT / KH)   |  8:00 – 9:00 PM (GMT+8 HK / MY)
URL:http://iblooming.ai/id/event/the-ibommie-love-map-understand-each-other-love-better-part-2/
CATEGORIES:OnLive
ATTACH;FMTTYPE=image/jpeg:https://iblooming.ai/wp-content/uploads/2026/04/Thumbnail-6.jpg
ORGANIZER;CN="iLearn":MAILTO:cs@iblooming.ai
END:VEVENT
BEGIN:VEVENT
DTSTART;TZID=Asia/Hong_Kong:20260415T200000
DTEND;TZID=Asia/Hong_Kong:20260415T210000
DTSTAMP:20260421T111213
CREATED:20260414T121124Z
LAST-MODIFIED:20260414T121124Z
UID:10000375-1776283200-1776286800@iblooming.ai
SUMMARY:One Team\, Many Generations: Turning Differences into Strengths
DESCRIPTION:Bridge the generational gap and foster a more collaborative workplace in “One Team\, Many Generations: Turning Differences into Strengths” with Theresia Vita Danoriko. This session explores the unique perspectives of Baby Boomers\, Gen X\, Millennials\, and Gen Z\, providing a roadmap for transforming age-related friction into a powerful competitive advantage. \nDesigned for managers\, team leaders\, and employees at all levels\, this program moves beyond stereotypes to uncover the shared values that unite a diverse workforce. You will learn practical communication strategies to resolve generational conflict\, discover how to leverage the “tribal knowledge” of older mentors alongside the “digital fluency” of younger talent\, and build a culture of mutual respect where every generation feels heard and valued \nSpoken Language: English\nTime: 7:00 – 8:00 PM (GMT+7 JKT / KH)   |  8:00 – 9:00 PM (GMT+8 HK / MY)
URL:http://iblooming.ai/id/event/one-team-many-generations-turning-differences-into-strengths/
CATEGORIES:OnLive
ATTACH;FMTTYPE=image/jpeg:https://iblooming.ai/wp-content/uploads/2026/04/Thumbnail-9.jpg
ORGANIZER;CN="iLearn":MAILTO:cs@iblooming.ai
END:VEVENT
BEGIN:VEVENT
DTSTART;TZID=Asia/Hong_Kong:20260416T180000
DTEND;TZID=Asia/Hong_Kong:20260416T190000
DTSTAMP:20260421T111213
CREATED:20260415T091754Z
LAST-MODIFIED:20260415T091754Z
UID:10000376-1776362400-1776366000@iblooming.ai
SUMMARY:The Power of Suffering:  Turning Pain Into Strength
DESCRIPTION:Find the hidden potential within life’s most difficult moments in “The Power of Suffering: Turning Pain Into Strength” with Ana Pinardi. This session explores the psychological and emotional process of “Post-Traumatic Growth\,” focusing on how deep challenges can be used as a catalyst for developing profound resilience\, empathy\, and personal clarity. \nDesigned for anyone navigating seasons of hardship or seeking to support others through them\, this program provides a framework for reframing adversity. You will learn how to process the lessons found in struggle\, move beyond the role of a survivor to that of an “overcomer\,” and discover how your most painful experiences can ultimately become your greatest sources of strength and purpose.  \nSpoken Language: Indonesian\nTime: 5:00 – 6:00 PM (GMT+7 JKT / KH)   |  6:00 – 7:00 PM (GMT+8 HK / MY)
URL:http://iblooming.ai/id/event/the-power-of-suffering-turning-pain-into-strength/
CATEGORIES:OnLive
ATTACH;FMTTYPE=image/jpeg:https://iblooming.ai/wp-content/uploads/2026/04/Thumbnail-10.jpg
ORGANIZER;CN="iLearn":MAILTO:cs@iblooming.ai
END:VEVENT
BEGIN:VEVENT
DTSTART;TZID=Asia/Hong_Kong:20260416T200000
DTEND;TZID=Asia/Hong_Kong:20260416T210000
DTSTAMP:20260421T111213
CREATED:20260410T053136Z
LAST-MODIFIED:20260410T053136Z
UID:10000373-1776369600-1776373200@iblooming.ai
SUMMARY:The Book of Acts
DESCRIPTION:Trace the explosive growth of the early movement in “The Book of Acts” with Nira Olyvia\, M.Th. This session explores the transition from a localized group to a global mission\, focusing on the pivotal role of the Holy Spirit in empowering individuals to overcome cultural\, geographical\, and political barriers. \nDesigned for students of history and theology\, this lecture examines the key milestones of the early church\, from the events of Pentecost to the journeys that redefined the ancient world. You will gain a deeper understanding of the “Acts of the Apostles” as a blueprint for community building\, resilience under pressure\, and the strategic expansion of a message that changed the course of history. \n  \nSpoken Language: Indonesian\nTime: 8:00 PM (GMT+7 JKT / KH)   |  9:00 PM (GMT+8 HK / MY)
URL:http://iblooming.ai/id/event/the-book-of-acts/
CATEGORIES:OnLive
ATTACH;FMTTYPE=image/jpeg:https://iblooming.ai/wp-content/uploads/2026/04/Thumbnail-11.jpg
ORGANIZER;CN="iLearn":MAILTO:cs@iblooming.ai
END:VEVENT
BEGIN:VEVENT
DTSTART;TZID=Asia/Hong_Kong:20260417T200000
DTEND;TZID=Asia/Hong_Kong:20260417T210000
DTSTAMP:20260421T111213
CREATED:20260410T054058Z
LAST-MODIFIED:20260410T054058Z
UID:10000374-1776456000-1776459600@iblooming.ai
SUMMARY:Right People\, Right Place\, Right Time Building Your Workforce Blueprint Recruitment Strategy
DESCRIPTION:Join us for “Facing Today’s Children” with Drs. Thomas Kristo M.\, MM.\, ELT\, as we explore how rapid social and technological changes are shaping the mindset and behavior of the younger generation. This session will provide valuable insights on how parents\, educators\, and mentors can connect more effectively with today’s children—bridging gaps in communication\, values\, and understanding. \nDiscover how empathy\, guidance\, and adaptability can help nurture children to grow with confidence\, character\, and compassion in a modern\, fast-evolving world. \nSpoken Language: Indonesian\nTime: 7:00 – 8:00 PM (GMT+7 JKT / KH)   |  8:00 – 9:00 PM (GMT+8 HK / MY)
URL:http://iblooming.ai/id/event/right-people-right-place-right-time-building-your-workforce-blueprint-recruitment-strategy/
CATEGORIES:OnLive
ATTACH;FMTTYPE=image/jpeg:https://iblooming.ai/wp-content/uploads/2026/04/Thumbnail-8.jpg
ORGANIZER;CN="iLearn":MAILTO:cs@iblooming.ai
END:VEVENT
BEGIN:VEVENT
DTSTART;TZID=Asia/Hong_Kong:20260418T120000
DTEND;TZID=Asia/Hong_Kong:20260418T130000
DTSTAMP:20260421T111213
CREATED:20260416T064005Z
LAST-MODIFIED:20260416T064005Z
UID:10000377-1776513600-1776517200@iblooming.ai
SUMMARY:Mastering Self-Control Amid Social Pressure
DESCRIPTION:Navigate the tension between personal standards and group expectations in “Mastering Self-Control Amid Social Pressure” with Mr. Pande Kadek Yuda Bakti. This session dives into the psychology of “social contagion” and provides practical techniques for maintaining your integrity when the crowd is pulling you in a different direction. \nDesigned for those who want to lead rather than follow\, this program offers a toolkit for emotional regulation and firm decision-making. You will learn how to identify the subtle ways social pressure influences your choices\, develop the “inner pause” necessary to act on values rather than impulses\, and gain the confidence to stay true to your path even in high-pressure environments. \nSpoken Language: Indonesian\nTime: 11:00 AM (GMT+7 JKT / KH)   |  12:00 PM (GMT+8 HK / MY)
URL:http://iblooming.ai/id/event/mastering-self-control-amid-social-pressure/
CATEGORIES:OnLive
ATTACH;FMTTYPE=image/jpeg:https://iblooming.ai/wp-content/uploads/2026/04/Thumbnail-11-1.jpg
ORGANIZER;CN="iLearn":MAILTO:cs@iblooming.ai
END:VEVENT
BEGIN:VEVENT
DTSTART;VALUE=DATE:20260419
DTEND;VALUE=DATE:20260420
DTSTAMP:20260421T111213
CREATED:20260331T074445Z
LAST-MODIFIED:20260331T074445Z
UID:10000353-1776556800-1776643199@iblooming.ai
SUMMARY:Break & Breathe
DESCRIPTION:Release · Rest · Return
URL:http://iblooming.ai/id/event/break-breathe-26/
ATTACH;FMTTYPE=image/png:https://iblooming.ai/wp-content/uploads/2025/07/iLearn-Break.png
END:VEVENT
BEGIN:VEVENT
DTSTART;TZID=Asia/Hong_Kong:20260420T180000
DTEND;TZID=Asia/Hong_Kong:20260420T190000
DTSTAMP:20260421T111213
CREATED:20260417T030040Z
LAST-MODIFIED:20260417T030040Z
UID:10000378-1776708000-1776711600@iblooming.ai
SUMMARY:From Worship to Mission: Connecting Worship with God’s Mission
DESCRIPTION:Join us to discover “From Worship to Mission: Connecting Worship with God’s Mission” with Winson H. Simamora\, M.Pd. This session explores the powerful link between our songs of praise and our active service in the world\, reframing worship not as an end point\, but as the “fuel” that drives us toward a meaningful mission. \nDesigned for worship leaders\, church members\, and mission-minded individuals\, this program examines how a true encounter with the divine naturally leads to a desire to serve others. You will learn how to transition from being a “consumer” of worship to a “contributor” to God’s mission\, gaining practical insights on how to carry the spirit of the sanctuary into your workplace\, community\, and beyond. \nSpoken Language: Indonesian \nTime: 5:00 – 6:00 PM (GMT+7 JKT / KH)   |  6:00 – 7:00 PM (GMT+8 HK / MY)
URL:http://iblooming.ai/id/event/from-worship-to-mission-connecting-worship-with-gods-mission/
LOCATION:Business School
CATEGORIES:OnLive
ATTACH;FMTTYPE=image/jpeg:https://iblooming.ai/wp-content/uploads/2026/04/Thumbnail-14.jpg
END:VEVENT
BEGIN:VEVENT
DTSTART;TZID=Asia/Hong_Kong:20260420T200000
DTEND;TZID=Asia/Hong_Kong:20260420T210000
DTSTAMP:20260421T111213
CREATED:20260417T030519Z
LAST-MODIFIED:20260417T030519Z
UID:10000379-1776715200-1776718800@iblooming.ai
SUMMARY:Planning Your Child’s Education Fund Stop Delaying! Mindset & Action Plan for Your Child's Education Fund
DESCRIPTION:Break the cycle of procrastination in “Planning Your Child’s Education Fund Stop Delaying! Mindset & Action Plan for Your Child’s Education Fund” with Hany Gungoro\, CFA. This session\, focuses on the psychological hurdles and practical steps needed to move from “intending to save” to “consistently investing” for your child’s future. \nJoin us for a masterclass in financial discipline. You will learn how to overcome the mindset traps that cause delays\, calculate the real cost of waiting\, and build a high-impact action plan that secures your child’s academic opportunities without compromising your own financial health. \nSpoken Language: Indonesia\nTime: 7:00 – 8:00 PM (GMT+7 JKT / KH)   |  8:00 – 9:00 PM (GMT+8 HK / MY)
URL:http://iblooming.ai/id/event/planning-your-childs-education-fund-stop-delaying-mindset-action-plan-for-your-childs-education-fund/
LOCATION:Business School
CATEGORIES:OnLive
ATTACH;FMTTYPE=image/jpeg:https://iblooming.ai/wp-content/uploads/2026/04/Thumbnail-13.jpg
ORGANIZER;CN="iLearn":MAILTO:cs@iblooming.ai
END:VEVENT
BEGIN:VEVENT
DTSTART;TZID=Asia/Hong_Kong:20260421T200000
DTEND;TZID=Asia/Hong_Kong:20260421T210000
DTSTAMP:20260421T111213
CREATED:20260417T041104Z
LAST-MODIFIED:20260417T041612Z
UID:10000382-1776801600-1776805200@iblooming.ai
SUMMARY:The iBommie Success Code: Career\, Money\, and Growth by Type (Part 1)
DESCRIPTION:Unlock your professional potential in “The iBommie Success Code: Career\, Money\, and Growth by Type (Part 1)” with Ivan Tsui. This session decodes how different personality types navigate the workplace\, offering a tailored blueprint for achieving financial goals and career advancement based on your unique profile. \nJoin us to explore the specific “Success Code” for the first set of iBommie types. You will learn to identify your natural strengths in sales and leadership\, recognize the mindset shifts needed to scale your income\, and develop a customized growth strategy that aligns your career path with your inherent personality traits. \nJoin Zoom Meeting: https://tinyurl.com/GiMTuesday\n \nSpoken Language: Cantonese\nTime: 7:00 – 8:00 PM (GMT+7 JKT / KH)   |  8:00 – 9:00 PM (GMT+8 HK / MY)
URL:http://iblooming.ai/id/event/the-ibommie-success-code-career-money-and-growth-by-type-part-1/
CATEGORIES:OnLive
ATTACH;FMTTYPE=image/jpeg:https://iblooming.ai/wp-content/uploads/2026/04/Thumbnail-12-2.jpg
ORGANIZER;CN="iLearn":MAILTO:cs@iblooming.ai
END:VEVENT
BEGIN:VEVENT
DTSTART;TZID=Asia/Hong_Kong:20260422T200000
DTEND;TZID=Asia/Hong_Kong:20260422T210000
DTSTAMP:20260421T111213
CREATED:20260417T041548Z
LAST-MODIFIED:20260417T041548Z
UID:10000383-1776888000-1776891600@iblooming.ai
SUMMARY:FROM STUDENT TO FOUNDER:  The Growth Map for Building Your Business  Why Mindset is Everything
DESCRIPTION:Accelerate your journey from the classroom to the boardroom in “FROM STUDENT TO FOUNDER: The Growth Map for Building Your Business” with Dr. Marcus Soe Hein. This session\, titled “Why Mindset is Everything\,” explores the psychological shift required to transition from a student following instructions to a founder creating opportunities. \nJoin us to learn the fundamental “Growth Map” for new entrepreneurs. You will discover how to reframe failure as data\, cultivate the resilience needed for the startup phase\, and build a mental framework that prioritizes problem-solving and long-term vision over short-term academic perfection. \n  \nSpoken Language: Khmer\nTime: 7:00 – 8:00 PM (GMT+7 JKT / KH)   |  8:00 – 9:00 PM (GMT+8 HK / MY)
URL:http://iblooming.ai/id/event/from-student-to-founder-the-growth-map-for-building-your-business-why-mindset-is-everything/
CATEGORIES:OnLive
ATTACH;FMTTYPE=image/jpeg:https://iblooming.ai/wp-content/uploads/2026/04/0422t.jpg
ORGANIZER;CN="iLearn":MAILTO:cs@iblooming.ai
END:VEVENT
BEGIN:VEVENT
DTSTART;TZID=Asia/Hong_Kong:20260423T180000
DTEND;TZID=Asia/Hong_Kong:20260423T190000
DTSTAMP:20260421T111213
CREATED:20260417T042340Z
LAST-MODIFIED:20260417T042340Z
UID:10000384-1776967200-1776970800@iblooming.ai
SUMMARY:How to Remember Anything Easily
DESCRIPTION:Master the art of total recall in “How to Remember Anything Easily” with Jeyaraman S. This session breaks down the science of mnemonics and visualization\, proving that a “great memory” isn’t a gift you’re born with\, but a skill you can build through specific\, repeatable techniques. \nYou will explore the mechanics of human memory to move beyond rote learning\, master simple social hacks for remembering names instantly\, and gain reliable methods to recall lists of 20 items or more with perfect accuracy. \n  \nSpoken Language: English\nTime: 5:00 – 6:00 PM (GMT+7 JKT / KH)   |  6:00 – 7:00 PM (GMT+8 HK / MY)
URL:http://iblooming.ai/id/event/how-to-remember-anything-easily/
CATEGORIES:OnLive
ATTACH;FMTTYPE=image/jpeg:https://iblooming.ai/wp-content/uploads/2026/04/0323t.jpg
ORGANIZER;CN="iLearn":MAILTO:cs@iblooming.ai
END:VEVENT
BEGIN:VEVENT
DTSTART;TZID=Asia/Hong_Kong:20260423T200000
DTEND;TZID=Asia/Hong_Kong:20260423T210000
DTSTAMP:20260421T111213
CREATED:20260417T031125Z
LAST-MODIFIED:20260417T031125Z
UID:10000380-1776974400-1776978000@iblooming.ai
SUMMARY:The Pauline Epistles
DESCRIPTION:Dive into the strategic and pastoral heart of the New Testament in “The Pauline Epistles” with Dr. Joko Prihanto\, M.Th. This session explores the thirteen letters attributed to the Apostle Paul\, examining how he addressed specific local challenges while establishing a universal theological framework for the early movement. \nJoin us for a deep dive into the “occasional” nature of these writings—letters written for specific times and places that became timeless foundations for faith. You will learn to navigate the core themes of grace\, community ethics\, and leadership that define the Pauline tradition\, gaining a clearer perspective on how these ancient correspondences continue to shape modern thought. \n\nSpoken Language: Indonesian\nTime: 8:00 PM (GMT+7 JKT / KH)   |  9:00 PM (GMT+8 HK / MY)
URL:http://iblooming.ai/id/event/the-pauline-epistles/
CATEGORIES:OnLive
ATTACH;FMTTYPE=image/jpeg:https://iblooming.ai/wp-content/uploads/2026/04/Thumbnail-12-1.jpg
ORGANIZER;CN="iLearn":MAILTO:cs@iblooming.ai
END:VEVENT
BEGIN:VEVENT
DTSTART;TZID=Asia/Hong_Kong:20260424T200000
DTEND;TZID=Asia/Hong_Kong:20260424T210000
DTSTAMP:20260421T111213
CREATED:20260417T032021Z
LAST-MODIFIED:20260417T032021Z
UID:10000381-1777060800-1777064400@iblooming.ai
SUMMARY:Right People\, Right Place\, Right Time Building Your Workforce Blueprint Talent Management
DESCRIPTION:Maximize your organization’s potential in “Right People\, Right Place\, Right Time: Building Your Workforce Blueprint” with Sugiarti Rosbak. This session\, focused on Talent Management\, explores how to move beyond basic HR to create a continuous cycle of developing\, engaging\, and retaining top performers. \nJoin us to learn the art of “high-potential” identification. You will discover how to align individual career paths with company goals\, build a robust leadership pipeline\, and create a culture where your best people are empowered to grow in place—ensuring your workforce remains your strongest competitive advantage. \nSpoken Language: Indonesian\nTime: 7:00 – 8:00 PM (GMT+7 JKT / KH)   |  8:00 – 9:00 PM (GMT+8 HK / MY)
URL:http://iblooming.ai/id/event/right-people-right-place-right-time-building-your-workforce-blueprint-talent-management/
CATEGORIES:OnLive
ATTACH;FMTTYPE=image/jpeg:https://iblooming.ai/wp-content/uploads/2026/04/0424t.jpg
ORGANIZER;CN="iLearn":MAILTO:cs@iblooming.ai
END:VEVENT
BEGIN:VEVENT
DTSTART;TZID=Asia/Hong_Kong:20260425T120000
DTEND;TZID=Asia/Hong_Kong:20260425T130000
DTSTAMP:20260421T111213
CREATED:20260417T042649Z
LAST-MODIFIED:20260417T042649Z
UID:10000385-1777118400-1777122000@iblooming.ai
SUMMARY:Cultivating Compassion in Social Life
DESCRIPTION:Enhance your emotional intelligence and community impact in “Cultivating Compassion in Social Life” with Mr. Abhisarano Johan. This session explores the practical application of empathy and kindness\, moving compassion from a quiet feeling to an active\, transformative force in your daily interactions. \nJoin us to learn how to navigate social complexities with a heart-centered approach. You will explore the mechanics of “active listening” to move beyond surface-level conversation\, discover how to set compassionate boundaries that prevent emotional burnout\, and gain reliable methods to foster deeper\, more meaningful connections in both your professional and personal circles. \nSpoken Language: Indonesian\nTime: 11:00 AM (GMT+7 JKT / KH)   |  12:00 PM (GMT+8 HK / MY)
URL:http://iblooming.ai/id/event/cultivating-compassion-in-social-life/
CATEGORIES:OnLive
ATTACH;FMTTYPE=image/jpeg:https://iblooming.ai/wp-content/uploads/2026/04/0425t.jpg
ORGANIZER;CN="iLearn":MAILTO:cs@iblooming.ai
END:VEVENT
BEGIN:VEVENT
DTSTART;VALUE=DATE:20260426
DTEND;VALUE=DATE:20260427
DTSTAMP:20260421T111213
CREATED:20260331T074452Z
LAST-MODIFIED:20260331T074452Z
UID:10000354-1777161600-1777247999@iblooming.ai
SUMMARY:Break & Breathe
DESCRIPTION:Release · Rest · Return
URL:http://iblooming.ai/id/event/break-breathe-27/
ATTACH;FMTTYPE=image/png:https://iblooming.ai/wp-content/uploads/2025/07/iLearn-Break.png
END:VEVENT
BEGIN:VEVENT
DTSTART;TZID=Asia/Hong_Kong:20260429T200000
DTEND;TZID=Asia/Hong_Kong:20260429T210000
DTSTAMP:20260421T111213
CREATED:20260417T043044Z
LAST-MODIFIED:20260417T043044Z
UID:10000386-1777492800-1777496400@iblooming.ai
SUMMARY:FROM STUDENT TO FOUNDER:  The Growth Map for Building Your Business  Business Model
DESCRIPTION:Transition from a great idea to a sustainable venture in “FROM STUDENT TO FOUNDER: The Growth Map for Building Your Business” with Dr. Marcus Soe Hein. This session focuses on the Business Model\, providing the essential framework to ensure your startup is built on a solid foundation of value creation and financial viability. \nJoin us to master the architecture of entrepreneurship. You will learn to identify your unique value proposition\, map out your revenue streams to ensure profitability\, and gain reliable methods to test and pivot your business model before committing significant resources. \n  \nSpoken Language: English\nTime: 7:00 – 8:00 PM (GMT+7 JKT / KH)   |  8:00 – 9:00 PM (GMT+8 HK / MY)
URL:http://iblooming.ai/id/event/from-student-to-founder-the-growth-map-for-building-your-business-business-model/
CATEGORIES:OnLive
ATTACH;FMTTYPE=image/jpeg:https://iblooming.ai/wp-content/uploads/2026/04/0429t.jpg
ORGANIZER;CN="iLearn":MAILTO:cs@iblooming.ai
END:VEVENT
BEGIN:VEVENT
DTSTART;VALUE=DATE:20260503
DTEND;VALUE=DATE:20260504
DTSTAMP:20260421T111213
CREATED:20260331T074531Z
LAST-MODIFIED:20260331T074531Z
UID:10000355-1777766400-1777852799@iblooming.ai
SUMMARY:Break & Breathe
DESCRIPTION:Release · Rest · Return
URL:http://iblooming.ai/id/event/break-breathe-28/
ATTACH;FMTTYPE=image/png:https://iblooming.ai/wp-content/uploads/2025/07/iLearn-Break.png
END:VEVENT
END:VCALENDAR