BEGIN:VCALENDAR
VERSION:2.0
PRODID:-//iBlooming - ECPv6.14.1//NONSGML v1.0//EN
CALSCALE:GREGORIAN
METHOD:PUBLISH
X-ORIGINAL-URL:http://iblooming.ai/km
X-WR-CALDESC:Events for iBlooming
REFRESH-INTERVAL;VALUE=DURATION:PT1H
X-Robots-Tag:noindex
X-PUBLISHED-TTL:PT1H
BEGIN:VTIMEZONE
TZID:Asia/Hong_Kong
BEGIN:STANDARD
TZOFFSETFROM:+0800
TZOFFSETTO:+0800
TZNAME:HKT
DTSTART:20250101T000000
END:STANDARD
END:VTIMEZONE
BEGIN:VEVENT
DTSTART;TZID=Asia/Hong_Kong:20250802T060000
DTEND;TZID=Asia/Hong_Kong:20250802T073000
DTSTAMP:20260423T143719
CREATED:20250731T044400Z
LAST-MODIFIED:20250801T081831Z
UID:10000027-1754114400-1754119800@iblooming.ai
SUMMARY:Morning Shower & Morning Feeding Pt. 22
DESCRIPTION:Are you ready to transform your life from the inside out? Imagine waking up each day feeling centered\, confident\, and deeply connected to your true self. \nMS&MF: Reconnect\, Reflect\, and Reclaim Your Greatness! \nMS&MF is a transformative personal reflection program designed to help you grow your inner world and reclaim your greatness. \nThis step-by-step journey empowers you to break free from external validation and cultivate a life of inner peace\, joy\, and true freedom. \n  \n  \nWhat You’ll Gain: \n✅ Deep Self-Reflection – Understand yourself on a profound level.\n✅ Daily Revisitation – Reinforce personal growth every day.\n✅ Freedom from Seeking Approval – Live for yourself\, not for others.\n✅ Inner Joy & Peace – Find happiness from within.\n✅ Awaken Your Inner Voice – Trust your intuition and wisdom.\n✅ Embrace Your True Self – Be unapologetically you.\n✅ Experience True Freedom – Break free from limitations.\n✅ And more! \nThis program is for everyone!\nIt’s time to stop living on autopilot and start creating a life that aligns with your deepest values and desires. \nJoin us today and take the first step toward a more joyful\, authentic\, and empowered you. \nSpoken Language: Indonesia\nTime: 5:00 – 6:30 AM (GMT+7 JKT / KH)   |  6:00 – 7:30 AM (GMT+8 HK / MY) \n 
URL:http://iblooming.ai/km/event/morning-shower-morning-feeding-pt-22/
CATEGORIES:OnLive
ATTACH;FMTTYPE=image/jpeg:https://iblooming.ai/wp-content/uploads/2025/07/Thumbnail-9.jpg
END:VEVENT
BEGIN:VEVENT
DTSTART;TZID=Asia/Hong_Kong:20250802T110000
DTEND;TZID=Asia/Hong_Kong:20250802T120000
DTSTAMP:20260423T143719
CREATED:20250730T025705Z
LAST-MODIFIED:20250731T060342Z
UID:10000011-1754132400-1754136000@iblooming.ai
SUMMARY:iLearn Coach: 2.2 Coaching Power Tools (Part 2)
DESCRIPTION:Join us for “Coaching Power Tools (Part 2)” with expert coach Adibah M Saleh as we explore powerful questioning\, deeper listening\, and the surprising role of silence in coaching. Unlock communication tools that foster trust\, clarity\, and transformation. This is where real coaching begins—let’s get started! \nSpoken Language: English\nTime: 10:00 AM (GMT+7 JKT / KH)   |  11:00 AM (GMT+8 HK / MY)
URL:http://iblooming.ai/km/event/ilearn-coach-draft/
LOCATION:Business School
CATEGORIES:OnLive
ATTACH;FMTTYPE=image/jpeg:https://iblooming.ai/wp-content/uploads/2025/07/2-Aug-25_-Coaching-Power-Tools-Adibah-M-Saleh.jpg
ORGANIZER;CN="iLearn":MAILTO:cs@iblooming.ai
END:VEVENT
END:VCALENDAR