BEGIN:VCALENDAR
VERSION:2.0
PRODID:-//iBlooming - ECPv6.14.1//NONSGML v1.0//EN
CALSCALE:GREGORIAN
METHOD:PUBLISH
X-ORIGINAL-URL:http://iblooming.ai/km
X-WR-CALDESC:Events for iBlooming
REFRESH-INTERVAL;VALUE=DURATION:PT1H
X-Robots-Tag:noindex
X-PUBLISHED-TTL:PT1H
BEGIN:VTIMEZONE
TZID:Asia/Hong_Kong
BEGIN:STANDARD
TZOFFSETFROM:+0800
TZOFFSETTO:+0800
TZNAME:HKT
DTSTART:20250101T000000
END:STANDARD
END:VTIMEZONE
BEGIN:VEVENT
DTSTART;TZID=Asia/Hong_Kong:20250807T180000
DTEND;TZID=Asia/Hong_Kong:20250807T190000
DTSTAMP:20260423T161354
CREATED:20250804T090339Z
LAST-MODIFIED:20250804T090339Z
UID:10000038-1754589600-1754593200@iblooming.ai
SUMMARY:Entrepreneurship Mentality
DESCRIPTION:In this high-energy session\, 𝐁𝐚𝐧𝐠 𝐄𝐤𝐤𝐲\, an MBA graduate\, former US-based professional\, silat coach\, author\, and Executive Producer at ESM TV\, shares powerful tools to help you develop the habits and courage to become your own boss. \nSpoken Language: Indonesian\nTime: 5:00 – 6:00 PM (GMT+7 JKT / KH)   |  6:00 – 7:00 PM (GMT+8 HK / MY)
URL:http://iblooming.ai/km/event/entrepreneurship-mentality/
CATEGORIES:OnLive
ATTACH;FMTTYPE=image/jpeg:https://iblooming.ai/wp-content/uploads/2025/08/0708-Entrepreneurship-Mentality-Bang-Ekky.jpg
ORGANIZER;CN="iLearn":MAILTO:cs@iblooming.ai
END:VEVENT
BEGIN:VEVENT
DTSTART;TZID=Asia/Hong_Kong:20250807T200000
DTEND;TZID=Asia/Hong_Kong:20250807T210000
DTSTAMP:20260423T161354
CREATED:20250730T045836Z
LAST-MODIFIED:20250731T060352Z
UID:10000014-1754596800-1754600400@iblooming.ai
SUMMARY:SCRIPTURE: Is the Bible Truly the Infallible Word of God? What Are the Canon and the Apocrypha?
DESCRIPTION:Join us for “Scripture: Is The Bible Truly The Infallible Word of God?” with Dr. Rubin Adi Abraham M. Th\, as we examine what makes the Bible authoritative\, inspired\, and trustworthy. Dive deep into the meaning of canon\, the mystery of the apocrypha\, and the foundations of biblical inerrancy. \n  \nSpoken Language: Indonesian\nTime: 8:00 PM (GMT+7 JKT / KH)   |  9:00 PM (GMT+8 HK / MY)
URL:http://iblooming.ai/km/event/scripture-is-the-bible-truly-the-infallible-word-of-god-what-are-the-canon-and-the-apocrypha/
LOCATION:Business School
CATEGORIES:OnLive
ATTACH;FMTTYPE=image/jpeg:https://iblooming.ai/wp-content/uploads/2025/07/7-Aug-Eng_-SCRIPTURE_-Is-the-Bible-Truly-the-Infallible-Word-of-God_-What-Are-the-Canon-and-the-Apocrypha_-Dr.-Rubin-Adi-Abraham-M.jpg
ORGANIZER;CN="iLearn":MAILTO:cs@iblooming.ai
END:VEVENT
END:VCALENDAR