BEGIN:VCALENDAR
VERSION:2.0
PRODID:-//iBlooming - ECPv6.14.1//NONSGML v1.0//EN
CALSCALE:GREGORIAN
METHOD:PUBLISH
X-ORIGINAL-URL:http://iblooming.ai/km
X-WR-CALDESC:Events for iBlooming
REFRESH-INTERVAL;VALUE=DURATION:PT1H
X-Robots-Tag:noindex
X-PUBLISHED-TTL:PT1H
BEGIN:VTIMEZONE
TZID:Asia/Hong_Kong
BEGIN:STANDARD
TZOFFSETFROM:+0800
TZOFFSETTO:+0800
TZNAME:HKT
DTSTART:20250101T000000
END:STANDARD
END:VTIMEZONE
BEGIN:VEVENT
DTSTART;TZID=Asia/Hong_Kong:20250813T180000
DTEND;TZID=Asia/Hong_Kong:20250813T190000
DTSTAMP:20260423T161348
CREATED:20250804T085655Z
LAST-MODIFIED:20250804T085655Z
UID:10000037-1755108000-1755111600@iblooming.ai
SUMMARY:Silent Struggles of New Executives
DESCRIPTION:Meet 𝐁𝐮𝐝𝐢 𝐆𝐮𝐧𝐚 𝐇𝐚𝐥𝐢𝐦 — a seasoned HR leader\, coach\, and organizational strategist with over 15 years of experience in leadership development\, culture transformation\, and executive coaching. In this session\, he shares real stories and powerful frameworks to help new leaders embrace their role with confidence and authenticity\n \nSpoken Language: Indonesian\nTime: 5:00 – 6:00 PM (GMT+7 JKT / KH)   |  6:00 – 7:00 PM (GMT+8 HK / MY)
URL:http://iblooming.ai/km/event/silent-struggles-of-new-executives/
CATEGORIES:OnLive
ATTACH;FMTTYPE=image/jpeg:https://iblooming.ai/wp-content/uploads/2025/08/Thumbnail-12.jpg
ORGANIZER;CN="iLearn":MAILTO:cs@iblooming.ai
END:VEVENT
END:VCALENDAR