BEGIN:VCALENDAR
VERSION:2.0
PRODID:-//iBlooming - ECPv6.14.1//NONSGML v1.0//EN
CALSCALE:GREGORIAN
METHOD:PUBLISH
X-ORIGINAL-URL:http://iblooming.ai/km
X-WR-CALDESC:Events for iBlooming
REFRESH-INTERVAL;VALUE=DURATION:PT1H
X-Robots-Tag:noindex
X-PUBLISHED-TTL:PT1H
BEGIN:VTIMEZONE
TZID:Asia/Hong_Kong
BEGIN:STANDARD
TZOFFSETFROM:+0800
TZOFFSETTO:+0800
TZNAME:HKT
DTSTART:20250101T000000
END:STANDARD
END:VTIMEZONE
BEGIN:VEVENT
DTSTART;TZID=Asia/Hong_Kong:20250827T180000
DTEND;TZID=Asia/Hong_Kong:20250827T190000
DTSTAMP:20260423T223607
CREATED:20250807T032240Z
LAST-MODIFIED:20250812T011813Z
UID:10000056-1756317600-1756321200@iblooming.ai
SUMMARY:The Path To Happiness\, The Ultimate Success
DESCRIPTION:Join us for “The Path To Happiness\, The Ultimate Success!” with Olusola Adeyegbe as we explore how true happiness is the foundation of lasting success. This session dives into practical ways to cultivate joy and fulfillment that go beyond material achievements. \nWhether you’re striving for personal growth or professional excellence\, learn how aligning your mindset and actions with happiness can transform your life and lead to ultimate success. \n  \nSpoken Language: English\nTime: 5:00 – 6:00 PM (GMT+7 JKT / KH)   |  6:00 – 7:00 PM (GMT+8 HK / MY)
URL:http://iblooming.ai/km/event/stay-tuned-6/
LOCATION:Business School
CATEGORIES:OnLive
ATTACH;FMTTYPE=image/jpeg:https://iblooming.ai/wp-content/uploads/2025/08/Thumbnail-11-1.jpg
ORGANIZER;CN="iLearn":MAILTO:cs@iblooming.ai
END:VEVENT
END:VCALENDAR