BEGIN:VCALENDAR
VERSION:2.0
PRODID:-//iBlooming - ECPv6.14.1//NONSGML v1.0//EN
CALSCALE:GREGORIAN
METHOD:PUBLISH
X-WR-CALNAME:iBlooming
X-ORIGINAL-URL:http://iblooming.ai/km
X-WR-CALDESC:Events for iBlooming
REFRESH-INTERVAL;VALUE=DURATION:PT1H
X-Robots-Tag:noindex
X-PUBLISHED-TTL:PT1H
BEGIN:VTIMEZONE
TZID:Asia/Hong_Kong
BEGIN:STANDARD
TZOFFSETFROM:+0800
TZOFFSETTO:+0800
TZNAME:HKT
DTSTART:20250101T000000
END:STANDARD
END:VTIMEZONE
BEGIN:VEVENT
DTSTART;TZID=Asia/Hong_Kong:20250901T200000
DTEND;TZID=Asia/Hong_Kong:20250901T210000
DTSTAMP:20260423T161908
CREATED:20250829T011244Z
LAST-MODIFIED:20250829T011244Z
UID:10000078-1756756800-1756760400@iblooming.ai
SUMMARY:Financial Fresh Start: From Zero to Financially Confident
DESCRIPTION:Start your journey with “Financial Fresh Start: From Zero to Financially Confident” with Ahmad Eka Prasetia as he shares practical steps to rebuild your financial foundation. This session will cover how to manage money wisely\, overcome financial setbacks\, and build lasting confidence in your financial future. \nWhether you’re starting from scratch or looking to strengthen your money habits\, discover strategies that can help you take control and move toward financial freedom. \nSpoken Language: Indonesia\nTime: 7:00 – 8:00 PM (GMT+7 JKT / KH)   |  8:00 – 9:00 PM (GMT+8 HK / MY)
URL:http://iblooming.ai/km/event/financial-fresh-start-from-zero-to-financially-confident/
LOCATION:Business School
CATEGORIES:OnLive
ATTACH;FMTTYPE=image/jpeg:https://iblooming.ai/wp-content/uploads/2025/08/0901-t.jpg
ORGANIZER;CN="iLearn":MAILTO:cs@iblooming.ai
END:VEVENT
END:VCALENDAR