BEGIN:VCALENDAR
VERSION:2.0
PRODID:-//iBlooming - ECPv6.14.1//NONSGML v1.0//EN
CALSCALE:GREGORIAN
METHOD:PUBLISH
X-WR-CALNAME:iBlooming
X-ORIGINAL-URL:http://iblooming.ai/km
X-WR-CALDESC:Events for iBlooming
REFRESH-INTERVAL;VALUE=DURATION:PT1H
X-Robots-Tag:noindex
X-PUBLISHED-TTL:PT1H
BEGIN:VTIMEZONE
TZID:Asia/Hong_Kong
BEGIN:STANDARD
TZOFFSETFROM:+0800
TZOFFSETTO:+0800
TZNAME:HKT
DTSTART:20250101T000000
END:STANDARD
END:VTIMEZONE
BEGIN:VEVENT
DTSTART;TZID=Asia/Hong_Kong:20250908T200000
DTEND;TZID=Asia/Hong_Kong:20250908T210000
DTSTAMP:20260423T161912
CREATED:20250902T094022Z
LAST-MODIFIED:20250902T094022Z
UID:10000081-1757361600-1757365200@iblooming.ai
SUMMARY:The 8th Wonder of The World: Compounding Revealed
DESCRIPTION:Unlock the secrets of wealth with “The 8th Wonder of The World: Compounding Revealed” with Floren Kasih as he explains how the power of compounding can transform your financial future. This session will show how small\, consistent actions today can lead to exponential growth over time. \nWhether you’re new to investing or looking to maximize your savings\, learn practical strategies to harness compounding and build lasting financial success. \nSpoken Language: Indonesia\nTime: 7:00 – 8:00 PM (GMT+7 JKT / KH)   |  8:00 – 9:00 PM (GMT+8 HK / MY)
URL:http://iblooming.ai/km/event/the-8th-wonder-of-the-world-compounding-revealed/
LOCATION:Business School
CATEGORIES:OnLive
ATTACH;FMTTYPE=image/jpeg:https://iblooming.ai/wp-content/uploads/2025/09/0809t.jpg
ORGANIZER;CN="iLearn":MAILTO:cs@iblooming.ai
END:VEVENT
END:VCALENDAR