BEGIN:VCALENDAR
VERSION:2.0
PRODID:-//iBlooming - ECPv6.14.1//NONSGML v1.0//EN
CALSCALE:GREGORIAN
METHOD:PUBLISH
X-WR-CALNAME:iBlooming
X-ORIGINAL-URL:http://iblooming.ai/km
X-WR-CALDESC:Events for iBlooming
REFRESH-INTERVAL;VALUE=DURATION:PT1H
X-Robots-Tag:noindex
X-PUBLISHED-TTL:PT1H
BEGIN:VTIMEZONE
TZID:Asia/Hong_Kong
BEGIN:STANDARD
TZOFFSETFROM:+0800
TZOFFSETTO:+0800
TZNAME:HKT
DTSTART:20250101T000000
END:STANDARD
END:VTIMEZONE
BEGIN:VEVENT
DTSTART;TZID=Asia/Hong_Kong:20250909T200000
DTEND;TZID=Asia/Hong_Kong:20250909T210000
DTSTAMP:20260423T200008
CREATED:20250827T030324Z
LAST-MODIFIED:20250904T092650Z
UID:10000071-1757448000-1757451600@iblooming.ai
SUMMARY:Healthy Aging: How to Prevent Physical & Mental Decline through Nutrition\, Movement\, and Mindset
DESCRIPTION:Tune in to the: “Healthy Aging: How to Prevent Physical & Mental Decline through Nutrition\, Movement\, and Mindset” with  Dr. Josephine Gross with Onggy Hianata. This conversation explores how simple daily choices can slow aging\, boost energy\, and strengthen both body and mind. \nWhether you want to stay active\, sharp\, or simply age with grace\, discover practical tips on nutrition\, movement\, and mindset that can help you live healthier\, longer\, and stronger. \nJoin Zoom Meeting: https://tinyurl.com/GiMTuesday\n \nSpoken Language: English\nTime: 7:00 – 8:00 PM (GMT+7 JKT / KH)   |  8:00 – 9:00 PM (GMT+8 HK / MY)
URL:http://iblooming.ai/km/event/healthy-aging-how-to-prevent-physical-mental-decline-through-nutrition-movement-and-mindset/
LOCATION:Business School
CATEGORIES:OnLive
ATTACH;FMTTYPE=image/jpeg:https://iblooming.ai/wp-content/uploads/2025/08/Thumbnail-9.jpg
ORGANIZER;CN="iLearn":MAILTO:cs@iblooming.ai
END:VEVENT
END:VCALENDAR