BEGIN:VCALENDAR
VERSION:2.0
PRODID:-//iBlooming - ECPv6.14.1//NONSGML v1.0//EN
CALSCALE:GREGORIAN
METHOD:PUBLISH
X-WR-CALNAME:iBlooming
X-ORIGINAL-URL:http://iblooming.ai/km
X-WR-CALDESC:Events for iBlooming
REFRESH-INTERVAL;VALUE=DURATION:PT1H
X-Robots-Tag:noindex
X-PUBLISHED-TTL:PT1H
BEGIN:VTIMEZONE
TZID:Asia/Hong_Kong
BEGIN:STANDARD
TZOFFSETFROM:+0800
TZOFFSETTO:+0800
TZNAME:HKT
DTSTART:20250101T000000
END:STANDARD
END:VTIMEZONE
BEGIN:VEVENT
DTSTART;TZID=Asia/Hong_Kong:20250912T160000
DTEND;TZID=Asia/Hong_Kong:20250912T170000
DTSTAMP:20260423T083418
CREATED:20250908T071936Z
LAST-MODIFIED:20250909T044128Z
UID:10000090-1757692800-1757696400@iblooming.ai
SUMMARY:Mind Matters: Mental Training & Health for Everyone
DESCRIPTION:Explore “Mind Matters: Mental Training & Health for Everyone” with Sinta Berliana Herru\, M.Pd.\, C.Ht as she shares practical strategies to strengthen mental resilience and improve overall well-being. This session covers techniques for managing stress\, enhancing focus\, and cultivating a healthy mindset. \nWhether you’re looking to boost personal growth or support others\, discover how mental training can empower you to live a more balanced\, confident\, and fulfilling life. \nSpoken Language: Indonesian\nTime: 3:00 – 4:00 PM (GMT+7 JKT / KH)   |  4:00 – 5:00 PM (GMT+8 HK / MY)
URL:http://iblooming.ai/km/event/5-ilearn-sports-draft/
CATEGORIES:OnLive
ATTACH;FMTTYPE=image/jpeg:https://iblooming.ai/wp-content/uploads/2025/09/1209-t.jpg
ORGANIZER;CN="iLearn":MAILTO:cs@iblooming.ai
END:VEVENT
END:VCALENDAR