BEGIN:VCALENDAR
VERSION:2.0
PRODID:-//iBlooming - ECPv6.14.1//NONSGML v1.0//EN
CALSCALE:GREGORIAN
METHOD:PUBLISH
X-ORIGINAL-URL:http://iblooming.ai/km
X-WR-CALDESC:Events for iBlooming
REFRESH-INTERVAL;VALUE=DURATION:PT1H
X-Robots-Tag:noindex
X-PUBLISHED-TTL:PT1H
BEGIN:VTIMEZONE
TZID:Asia/Hong_Kong
BEGIN:STANDARD
TZOFFSETFROM:+0800
TZOFFSETTO:+0800
TZNAME:HKT
DTSTART:20250101T000000
END:STANDARD
END:VTIMEZONE
BEGIN:VEVENT
DTSTART;TZID=Asia/Hong_Kong:20250927T060000
DTEND;TZID=Asia/Hong_Kong:20250927T073000
DTSTAMP:20260423T083717
CREATED:20250814T095152Z
LAST-MODIFIED:20250827T033151Z
UID:10000065-1758952800-1758958200@iblooming.ai
SUMMARY:Morning Shower & Morning Feeding Pt. 29
DESCRIPTION:Are you ready to transform your life from the inside out? Imagine waking up each day feeling centered\, confident\, and deeply connected to your true self. \nMS&MF: Reconnect\, Reflect\, and Reclaim Your Greatness! \nMS&MF is a transformative personal reflection program designed to help you grow your inner world and reclaim your greatness. \nThis step-by-step journey empowers you to break free from external validation and cultivate a life of inner peace\, joy\, and true freedom. \nWhat You’ll Gain: \n✅ Deep Self-Reflection – Understand yourself on a profound level.\n✅ Daily Revisitation – Reinforce personal growth every day.\n✅ Freedom from Seeking Approval – Live for yourself\, not for others.\n✅ Inner Joy & Peace – Find happiness from within.\n✅ Awaken Your Inner Voice – Trust your intuition and wisdom.\n✅ Embrace Your True Self – Be unapologetically you.\n✅ Experience True Freedom – Break free from limitations.\n✅ And more! \nThis program is for everyone!\nIt’s time to stop living on autopilot and start creating a life that aligns with your deepest values and desires. \nJoin us today and take the first step toward a more joyful\, authentic\, and empowered you. \nSpoken Language: Indonesia\nTime: 5:00 – 6:30 AM (GMT+7 JKT / KH)   |  6:00 – 7:30 AM (GMT+8 HK / MY) \n 
URL:http://iblooming.ai/km/event/morning-shower-morning-feeding-pt-29/
CATEGORIES:OnLive
ATTACH;FMTTYPE=image/jpeg:https://iblooming.ai/wp-content/uploads/2025/07/Thumbnail-9.jpg
END:VEVENT
BEGIN:VEVENT
DTSTART;TZID=Asia/Hong_Kong:20250927T110000
DTEND;TZID=Asia/Hong_Kong:20250927T120000
DTSTAMP:20260423T083717
CREATED:20250827T032128Z
LAST-MODIFIED:20250827T032128Z
UID:10000077-1758970800-1758974400@iblooming.ai
SUMMARY:iLearn Coach: 3.7 Program Closure
DESCRIPTION:Be part of iLearn Coach: “3.7 Program Closure” with Dr. Shan Moorthi\, PhD as he reflects on key takeaways from the program and ties together the essential lessons learned. This session will provide valuable insights\, highlight growth milestones\, and celebrate your coaching journey. \nWhether you’re continuing your development or stepping into new opportunities\, this closure marks both an achievement and a stepping stone toward greater impact as a coach. \nSpoken Language: English\nTime: 10:00 AM (GMT+7 JKT / KH)   |  11:00 AM (GMT+8 HK / MY)
URL:http://iblooming.ai/km/event/ilearn-coach-3-7-program-closure/
LOCATION:Business School
CATEGORIES:OnLive
ATTACH;FMTTYPE=image/jpeg:https://iblooming.ai/wp-content/uploads/2025/08/2709-T.jpg
ORGANIZER;CN="iLearn":MAILTO:cs@iblooming.ai
END:VEVENT
END:VCALENDAR