BEGIN:VCALENDAR
VERSION:2.0
PRODID:-//iBlooming - ECPv6.14.1//NONSGML v1.0//EN
CALSCALE:GREGORIAN
METHOD:PUBLISH
X-ORIGINAL-URL:http://iblooming.ai/km
X-WR-CALDESC:Events for iBlooming
REFRESH-INTERVAL;VALUE=DURATION:PT1H
X-Robots-Tag:noindex
X-PUBLISHED-TTL:PT1H
BEGIN:VTIMEZONE
TZID:Asia/Hong_Kong
BEGIN:STANDARD
TZOFFSETFROM:+0800
TZOFFSETTO:+0800
TZNAME:HKT
DTSTART:20250101T000000
END:STANDARD
END:VTIMEZONE
BEGIN:VEVENT
DTSTART;TZID=Asia/Hong_Kong:20251006T180000
DTEND;TZID=Asia/Hong_Kong:20251006T190000
DTSTAMP:20260423T161351
CREATED:20250923T021451Z
LAST-MODIFIED:20250929T093204Z
UID:10000112-1759773600-1759777200@iblooming.ai
SUMMARY:Mission in the Digital Era: Reading the Signs of the Times
DESCRIPTION:Join us for “Mission in the Digital Era: Reading the Signs of the Times” with Prof. Dr. F. Irwan Widjaja\, MAIE.\, Ph.D as we explore how the digital age is reshaping the way we live out and share God’s mission. This session will uncover the opportunities and challenges of engaging faith\, purpose\, and ministry in a rapidly changing\, technology-driven world. \nFor leaders\, ministry workers\, and believers seeking relevance in today’s context\, this session will provide insights to discern the times and respond faithfully to God’s call. \nSpoken Language: Indonesian \nTime: 5:00 – 6:00 PM (GMT+7 JKT / KH)   |  6:00 – 7:00 PM (GMT+8 HK / MY)
URL:http://iblooming.ai/km/event/planting-a-growing-church-2-strategy-spirituality-local-context/
LOCATION:Business School
CATEGORIES:OnLive
ATTACH;FMTTYPE=image/jpeg:https://iblooming.ai/wp-content/uploads/2025/09/Thumbnail-13-2.jpg
END:VEVENT
BEGIN:VEVENT
DTSTART;TZID=Asia/Hong_Kong:20251006T200000
DTEND;TZID=Asia/Hong_Kong:20251006T210000
DTSTAMP:20260423T161351
CREATED:20250923T022735Z
LAST-MODIFIED:20250923T022735Z
UID:10000116-1759780800-1759784400@iblooming.ai
SUMMARY:The Strategy to Double Your Profit by Optimizing Financial Reports
DESCRIPTION:Discover  “The Strategy to Double Your Profit by Optimizing Financial Reports” with Dedy Sidarta as we uncover how smart financial reporting can transform business decisions and drive growth. This session will highlight practical ways to analyze\, interpret\, and leverage financial data to maximize profitability. \nWhether you’re a business owner\, entrepreneur\, or professional\, this session will equip you with the tools to turn numbers into strategies and profits into sustainable success. \nSpoken Language: Indonesia\nTime: 7:00 – 8:00 PM (GMT+7 JKT / KH)   |  8:00 – 9:00 PM (GMT+8 HK / MY)
URL:http://iblooming.ai/km/event/the-strategy-to-double-your-profit-by-optimizing-financial-reports/
LOCATION:Business School
CATEGORIES:OnLive
ATTACH;FMTTYPE=image/jpeg:https://iblooming.ai/wp-content/uploads/2025/09/0610t-2.jpg
ORGANIZER;CN="iLearn":MAILTO:cs@iblooming.ai
END:VEVENT
END:VCALENDAR