BEGIN:VCALENDAR
VERSION:2.0
PRODID:-//iBlooming - ECPv6.14.1//NONSGML v1.0//EN
CALSCALE:GREGORIAN
METHOD:PUBLISH
X-ORIGINAL-URL:http://iblooming.ai/km
X-WR-CALDESC:Events for iBlooming
REFRESH-INTERVAL;VALUE=DURATION:PT1H
X-Robots-Tag:noindex
X-PUBLISHED-TTL:PT1H
BEGIN:VTIMEZONE
TZID:Asia/Hong_Kong
BEGIN:STANDARD
TZOFFSETFROM:+0800
TZOFFSETTO:+0800
TZNAME:HKT
DTSTART:20250101T000000
END:STANDARD
END:VTIMEZONE
BEGIN:VEVENT
DTSTART;TZID=Asia/Hong_Kong:20251014T200000
DTEND;TZID=Asia/Hong_Kong:20251014T210000
DTSTAMP:20260423T161348
CREATED:20251008T014244Z
LAST-MODIFIED:20251008T014244Z
UID:10000132-1760472000-1760475600@iblooming.ai
SUMMARY:Your Words\, Your World
DESCRIPTION:Join us for “Your Words\, Your World” with Donny de Keizer and Onggy Hianata\, as we explore the incredible power of words to shape mindsets\, relationships\, and the world around us. This inspiring session will uncover how the language we use can build confidence\, foster connection\, and transform challenges into opportunities for growth and purpose. \nDiscover how your words can become a force for change—shaping your thoughts\, influencing others\, and creating the reality you desire. Learn how intentional communication and positive expression can open doors to deeper relationships\, greater impact\, and a more meaningful life aligned with your values. \nJoin Zoom Meeting: https://tinyurl.com/GiMTuesday\n \nSpoken Language: Indonesian\nTime: 7:00 – 8:00 PM (GMT+7 JKT / KH)   |  8:00 – 9:00 PM (GMT+8 HK / MY)
URL:http://iblooming.ai/km/event/your-words-your-world/
LOCATION:Business School
CATEGORIES:OnLive
ATTACH;FMTTYPE=image/jpeg:https://iblooming.ai/wp-content/uploads/2025/10/1410t.jpg
ORGANIZER;CN="iLearn":MAILTO:cs@iblooming.ai
END:VEVENT
END:VCALENDAR