BEGIN:VCALENDAR
VERSION:2.0
PRODID:-//iBlooming - ECPv6.14.1//NONSGML v1.0//EN
CALSCALE:GREGORIAN
METHOD:PUBLISH
X-ORIGINAL-URL:http://iblooming.ai/km
X-WR-CALDESC:Events for iBlooming
REFRESH-INTERVAL;VALUE=DURATION:PT1H
X-Robots-Tag:noindex
X-PUBLISHED-TTL:PT1H
BEGIN:VTIMEZONE
TZID:Asia/Hong_Kong
BEGIN:STANDARD
TZOFFSETFROM:+0800
TZOFFSETTO:+0800
TZNAME:HKT
DTSTART:20250101T000000
END:STANDARD
END:VTIMEZONE
BEGIN:VEVENT
DTSTART;TZID=Asia/Hong_Kong:20251017T160000
DTEND;TZID=Asia/Hong_Kong:20251017T170000
DTSTAMP:20260423T094145
CREATED:20251006T012456Z
LAST-MODIFIED:20251006T012456Z
UID:10000130-1760716800-1760720400@iblooming.ai
SUMMARY:Parenting with Love in a Broken World
DESCRIPTION:Join us for “Parenting with Love in a Broken World” with Ana Pinardi\, as we reflect on how love\, compassion\, and faith can guide us through the challenges of raising children in today’s complex world. This session will explore how parents can nurture resilience\, hope\, and emotional security—helping children grow with strong values and open hearts amid uncertainty and change. \nThis session invites you to embrace the true essence of love in family life—discovering how compassion\, communication\, and emotional warmth can strengthen bonds and bring lasting harmony to your home \nSpoken Language: Indonesian\nTime: 3:00 – 4:00 PM (GMT+7 JKT / KH)   |  4:00 – 5:00 PM (GMT+8 HK / MY)
URL:http://iblooming.ai/km/event/parenting-with-love-in-a-broken-world/
LOCATION:Business School
CATEGORIES:OnLive
ATTACH;FMTTYPE=image/jpeg:https://iblooming.ai/wp-content/uploads/2025/10/1710t.jpg
ORGANIZER;CN="iLearn":MAILTO:cs@iblooming.ai
END:VEVENT
END:VCALENDAR