BEGIN:VCALENDAR
VERSION:2.0
PRODID:-//iBlooming - ECPv6.14.1//NONSGML v1.0//EN
CALSCALE:GREGORIAN
METHOD:PUBLISH
X-ORIGINAL-URL:http://iblooming.ai/km
X-WR-CALDESC:Events for iBlooming
REFRESH-INTERVAL;VALUE=DURATION:PT1H
X-Robots-Tag:noindex
X-PUBLISHED-TTL:PT1H
BEGIN:VTIMEZONE
TZID:Asia/Hong_Kong
BEGIN:STANDARD
TZOFFSETFROM:+0800
TZOFFSETTO:+0800
TZNAME:HKT
DTSTART:20250101T000000
END:STANDARD
END:VTIMEZONE
BEGIN:VEVENT
DTSTART;TZID=Asia/Hong_Kong:20251024T160000
DTEND;TZID=Asia/Hong_Kong:20251024T170000
DTSTAMP:20260423T094141
CREATED:20251008T020331Z
LAST-MODIFIED:20251008T020331Z
UID:10000136-1761321600-1761325200@iblooming.ai
SUMMARY:Parenting:  Discovery or Obsession?
DESCRIPTION:Join us for “Parenting: Discovery or Obsession?” with Liliana Hartanto\, as we reflect on the fine line between guiding our children with love and controlling them out of fear or expectation. This session will explore how self-awareness and empathy can help parents nurture growth\, independence\, and confidence in their children. \nDiscover how to embrace parenting as a journey of mutual discovery—where both parent and child learn\, grow\, and thrive together in understanding and love. \nSpoken Language: Indonesian\nTime: 3:00 – 4:00 PM (GMT+7 JKT / KH)   |  4:00 – 5:00 PM (GMT+8 HK / MY)
URL:http://iblooming.ai/km/event/parenting-discovery-or-obsession/
CATEGORIES:OnLive
ATTACH;FMTTYPE=image/jpeg:https://iblooming.ai/wp-content/uploads/2025/10/2410t.jpg
ORGANIZER;CN="iLearn":MAILTO:cs@iblooming.ai
END:VEVENT
END:VCALENDAR