BEGIN:VCALENDAR
VERSION:2.0
PRODID:-//iBlooming - ECPv6.14.1//NONSGML v1.0//EN
CALSCALE:GREGORIAN
METHOD:PUBLISH
X-WR-CALNAME:iBlooming
X-ORIGINAL-URL:http://iblooming.ai/km
X-WR-CALDESC:Events for iBlooming
REFRESH-INTERVAL;VALUE=DURATION:PT1H
X-Robots-Tag:noindex
X-PUBLISHED-TTL:PT1H
BEGIN:VTIMEZONE
TZID:Asia/Hong_Kong
BEGIN:STANDARD
TZOFFSETFROM:+0800
TZOFFSETTO:+0800
TZNAME:HKT
DTSTART:20250101T000000
END:STANDARD
END:VTIMEZONE
BEGIN:VEVENT
DTSTART;TZID=Asia/Hong_Kong:20251112T180000
DTEND;TZID=Asia/Hong_Kong:20251112T190000
DTSTAMP:20260423T184419
CREATED:20251106T015745Z
LAST-MODIFIED:20251106T015745Z
UID:10000182-1762970400-1762974000@iblooming.ai
SUMMARY:One for Earth: From Consciousness to Action
DESCRIPTION:Discover “One for Earth: From Consciousness to Action” with Dr. Ir. Sherly Iliana\, MM.\, as we journey from awareness to meaningful change for our planet. This session explores how personal consciousness and collective responsibility intertwine to create real impact in the face of today’s environmental challenges. \nLearn how to transform mindful living into purposeful action—cultivating habits\, choices\, and community initiatives that honor the Earth and sustain a future rooted in balance\, respect\, and renewal. \n  \nSpoken Language: English\nTime: 5:00 – 6:00 PM (GMT+7 JKT / KH)   |  6:00 – 7:00 PM (GMT+8 HK / MY)
URL:http://iblooming.ai/km/event/one-for-earth-from-consciousness-to-action/
CATEGORIES:OnLive
ATTACH;FMTTYPE=image/jpeg:https://iblooming.ai/wp-content/uploads/2025/11/1112t.jpg
ORGANIZER;CN="iLearn":MAILTO:cs@iblooming.ai
END:VEVENT
END:VCALENDAR