BEGIN:VCALENDAR
VERSION:2.0
PRODID:-//iBlooming - ECPv6.14.1//NONSGML v1.0//EN
CALSCALE:GREGORIAN
METHOD:PUBLISH
X-WR-CALNAME:iBlooming
X-ORIGINAL-URL:http://iblooming.ai/km
X-WR-CALDESC:Events for iBlooming
REFRESH-INTERVAL;VALUE=DURATION:PT1H
X-Robots-Tag:noindex
X-PUBLISHED-TTL:PT1H
BEGIN:VTIMEZONE
TZID:Asia/Hong_Kong
BEGIN:STANDARD
TZOFFSETFROM:+0800
TZOFFSETTO:+0800
TZNAME:HKT
DTSTART:20250101T000000
END:STANDARD
END:VTIMEZONE
BEGIN:VEVENT
DTSTART;TZID=Asia/Hong_Kong:20251125T200000
DTEND;TZID=Asia/Hong_Kong:20251125T210000
DTSTAMP:20260423T184419
CREATED:20251110T013859Z
LAST-MODIFIED:20251124T031452Z
UID:10000187-1764100800-1764104400@iblooming.ai
SUMMARY:Tweak Your Life
DESCRIPTION:Discover “Tweak Your Life” with Rudy Lim and Onggy Hianata\, as we uncover how small\, intentional shifts can create powerful transformations in the way we live\, think\, and make decisions. This session will reveal how subtle tweaks in mindset\, habits\, and perspective can lead to breakthrough results—both personally and professionally. \nLearn how to redefine your daily patterns\, upgrade your life strategies\, and unlock the potential that already exists within you—one practical adjustment at a time. \nJoin Zoom Meeting: https://tinyurl.com/GiMTuesday\n \nSpoken Language: Indonesian\nTime: 7:00 – 8:00 PM (GMT+7 JKT / KH)   |  8:00 – 9:00 PM (GMT+8 HK / MY)
URL:http://iblooming.ai/km/event/stay-tuned-18/
CATEGORIES:OnLive
ATTACH;FMTTYPE=image/jpeg:https://iblooming.ai/wp-content/uploads/2025/11/Thumbnail-1-2.jpg
ORGANIZER;CN="iLearn":MAILTO:cs@iblooming.ai
END:VEVENT
END:VCALENDAR