BEGIN:VCALENDAR
VERSION:2.0
PRODID:-//iBlooming - ECPv6.14.1//NONSGML v1.0//EN
CALSCALE:GREGORIAN
METHOD:PUBLISH
X-ORIGINAL-URL:http://iblooming.ai/km
X-WR-CALDESC:Events for iBlooming
REFRESH-INTERVAL;VALUE=DURATION:PT1H
X-Robots-Tag:noindex
X-PUBLISHED-TTL:PT1H
BEGIN:VTIMEZONE
TZID:Asia/Hong_Kong
BEGIN:STANDARD
TZOFFSETFROM:+0800
TZOFFSETTO:+0800
TZNAME:HKT
DTSTART:20250101T000000
END:STANDARD
END:VTIMEZONE
BEGIN:VEVENT
DTSTART;TZID=Asia/Hong_Kong:20251202T200000
DTEND;TZID=Asia/Hong_Kong:20251202T210000
DTSTAMP:20260422T154203
CREATED:20251128T093848Z
LAST-MODIFIED:20251201T042422Z
UID:10000223-1764705600-1764709200@iblooming.ai
SUMMARY:High Touch Skills: Harsh Reality of Today’s Change
DESCRIPTION:Explore “High Touch Skills: Harsh Reality of Today’s Change” with Ken Bay\, as we examine why human connection\, empathy\, and emotional intelligence remain crucial in a rapidly evolving\, technology-driven world. This session will reveal the challenges professionals face when relying solely on automation and digital tools. \nLearn how to cultivate high-touch skills—blending human understanding with technological competence—to stay relevant\, build trust\, and thrive amidst today’s fast-paced changes. \nJoin Zoom Meeting: https://tinyurl.com/GiMTuesday\n \nSpoken Language: English\nTime: 7:00 – 8:00 PM (GMT+7 JKT / KH)   |  8:00 – 9:00 PM (GMT+8 HK / MY)
URL:http://iblooming.ai/km/event/stay-tuned-20/
CATEGORIES:OnLive
ATTACH;FMTTYPE=image/jpeg:https://iblooming.ai/wp-content/uploads/2025/11/Thumbnail-3.jpg
ORGANIZER;CN="iLearn":MAILTO:cs@iblooming.ai
END:VEVENT
END:VCALENDAR