BEGIN:VCALENDAR
VERSION:2.0
PRODID:-//iBlooming - ECPv6.14.1//NONSGML v1.0//EN
CALSCALE:GREGORIAN
METHOD:PUBLISH
X-ORIGINAL-URL:http://iblooming.ai/km
X-WR-CALDESC:Events for iBlooming
REFRESH-INTERVAL;VALUE=DURATION:PT1H
X-Robots-Tag:noindex
X-PUBLISHED-TTL:PT1H
BEGIN:VTIMEZONE
TZID:Asia/Hong_Kong
BEGIN:STANDARD
TZOFFSETFROM:+0800
TZOFFSETTO:+0800
TZNAME:HKT
DTSTART:20250101T000000
END:STANDARD
END:VTIMEZONE
BEGIN:VEVENT
DTSTART;VALUE=DATE:20251222
DTEND;VALUE=DATE:20251223
DTSTAMP:20260422T085445
CREATED:20251209T085718Z
LAST-MODIFIED:20251216T033602Z
UID:10000228-1766361600-1766447999@iblooming.ai
SUMMARY:iLearn Break
DESCRIPTION:iLearn return on Monday (5-Jan-2026)
URL:http://iblooming.ai/km/event/ilearn-break-7/
ATTACH;FMTTYPE=image/jpeg:https://iblooming.ai/wp-content/uploads/2025/12/iLearn-Break_Socmed_Thumbnail-1.jpg
END:VEVENT
END:VCALENDAR