BEGIN:VCALENDAR
VERSION:2.0
PRODID:-//iBlooming - ECPv6.14.1//NONSGML v1.0//EN
CALSCALE:GREGORIAN
METHOD:PUBLISH
X-ORIGINAL-URL:http://iblooming.ai/km
X-WR-CALDESC:Events for iBlooming
REFRESH-INTERVAL;VALUE=DURATION:PT1H
X-Robots-Tag:noindex
X-PUBLISHED-TTL:PT1H
BEGIN:VTIMEZONE
TZID:Asia/Hong_Kong
BEGIN:STANDARD
TZOFFSETFROM:+0800
TZOFFSETTO:+0800
TZNAME:HKT
DTSTART:20260101T000000
END:STANDARD
END:VTIMEZONE
BEGIN:VEVENT
DTSTART;TZID=Asia/Hong_Kong:20260106T200000
DTEND;TZID=Asia/Hong_Kong:20260106T210000
DTSTAMP:20260423T162645
CREATED:20260102T094656Z
LAST-MODIFIED:20260105T014553Z
UID:10000274-1767729600-1767733200@iblooming.ai
SUMMARY:Meet Your iBommie: Decode Your Energy and Personality with iBommie AI
DESCRIPTION:Uncover “Meet Your iBommie: Decode Your Energy and Personality with iBommie AI” with Ivan Tsui\, as we explore how AI can provide unique insights into your personality\, strengths\, and energy patterns. This session will reveal how understanding yourself through iBommie can enhance personal growth\, relationships\, and decision-making. \nLearn how to leverage AI-driven self-discovery—turning insights into actionable strategies to align your energy\, optimize your potential\, and navigate life with greater clarity and confidence. \nJoin Zoom Meeting: https://tinyurl.com/GiMTuesday\n \nSpoken Language: Cantonese\nTime: 7:00 – 8:00 PM (GMT+7 JKT / KH)   |  8:00 – 9:00 PM (GMT+8 HK / MY)
URL:http://iblooming.ai/km/event/meet-your-ibommie-decode-your-energy-and-personality-with-ibommie-ai/
CATEGORIES:OnLive
ATTACH;FMTTYPE=image/jpeg:https://iblooming.ai/wp-content/uploads/2026/01/Thumbnail-2.jpg
ORGANIZER;CN="iLearn":MAILTO:cs@iblooming.ai
END:VEVENT
END:VCALENDAR