BEGIN:VCALENDAR
VERSION:2.0
PRODID:-//iBlooming - ECPv6.14.1//NONSGML v1.0//EN
CALSCALE:GREGORIAN
METHOD:PUBLISH
X-ORIGINAL-URL:http://iblooming.ai/km
X-WR-CALDESC:Events for iBlooming
REFRESH-INTERVAL;VALUE=DURATION:PT1H
X-Robots-Tag:noindex
X-PUBLISHED-TTL:PT1H
BEGIN:VTIMEZONE
TZID:Asia/Hong_Kong
BEGIN:STANDARD
TZOFFSETFROM:+0800
TZOFFSETTO:+0800
TZNAME:HKT
DTSTART:20260101T000000
END:STANDARD
END:VTIMEZONE
BEGIN:VEVENT
DTSTART;TZID=Asia/Hong_Kong:20260121T200000
DTEND;TZID=Asia/Hong_Kong:20260121T210000
DTSTAMP:20260422T071817
CREATED:20251226T030931Z
LAST-MODIFIED:20251226T030931Z
UID:10000259-1769025600-1769029200@iblooming.ai
SUMMARY:The Perfect Speech Class For Those Who Don’t Like To Speak: Vocal Techniques that Persuade with Clarity
DESCRIPTION:Master “The Perfect Speech Class For Those Who Don’t Like To Speak: Vocal Techniques that Persuade with Clarity” with Fursey Gotuaco\, as we reveal how voice control\, tone\, pace\, and emphasis can enhance your persuasiveness and clarity. This session will show how subtle vocal techniques can engage your audience and make your message memorable—even if public speaking feels daunting. \nLearn how to project confidence and conviction through your voice—turning every word into a powerful tool for influence\, connection\, and impact. \nSpoken Language: English\nTime: 7:00 – 8:00 PM (GMT+7 JKT / KH)   |  8:00 – 9:00 PM (GMT+8 HK / MY)
URL:http://iblooming.ai/km/event/the-perfect-speech-class-for-those-who-dont-like-to-speak-vocal-techniques-that-persuade-with-clarity/
CATEGORIES:OnLive
ATTACH;FMTTYPE=image/jpeg:https://iblooming.ai/wp-content/uploads/2025/12/0121t.jpg
ORGANIZER;CN="iLearn":MAILTO:cs@iblooming.ai
END:VEVENT
END:VCALENDAR