BEGIN:VCALENDAR
VERSION:2.0
PRODID:-//iBlooming - ECPv6.14.1//NONSGML v1.0//EN
CALSCALE:GREGORIAN
METHOD:PUBLISH
X-ORIGINAL-URL:http://iblooming.ai/km
X-WR-CALDESC:Events for iBlooming
REFRESH-INTERVAL;VALUE=DURATION:PT1H
X-Robots-Tag:noindex
X-PUBLISHED-TTL:PT1H
BEGIN:VTIMEZONE
TZID:Asia/Hong_Kong
BEGIN:STANDARD
TZOFFSETFROM:+0800
TZOFFSETTO:+0800
TZNAME:HKT
DTSTART:20260101T000000
END:STANDARD
END:VTIMEZONE
BEGIN:VEVENT
DTSTART;TZID=Asia/Hong_Kong:20260123T200000
DTEND;TZID=Asia/Hong_Kong:20260123T210000
DTSTAMP:20260422T154205
CREATED:20251226T040110Z
LAST-MODIFIED:20251226T040110Z
UID:10000266-1769198400-1769202000@iblooming.ai
SUMMARY:SMEs : LEVEL UP OR FACE EXTINCTION  DATABASE = BUSINESS GOLDMINE How SMEs Can Develop Automated Revenue Engines
DESCRIPTION:Master “SMEs: Level Up or Face Extinction – How SMEs Can Develop Automated Revenue Engines” with Suwandi Chow\, as we explore how leveraging data can transform your business into a sustainable\, high-performing enterprise. This session will reveal how databases can become powerful revenue-generating tools when integrated with automation and strategic insights. \nLearn how to harness your business data—building automated systems that drive sales\, improve customer engagement\, and unlock growth opportunities in the competitive digital era. \nSpoken Language: Indonesian\nTime: 7:00 – 8:00 PM (GMT+7 JKT / KH)   |  8:00 – 9:00 PM (GMT+8 HK / MY)
URL:http://iblooming.ai/km/event/smes-level-up-or-face-extinction-database-business-goldmine-how-smes-can-develop-automated-revenue-engines/
CATEGORIES:OnLive
ATTACH;FMTTYPE=image/jpeg:https://iblooming.ai/wp-content/uploads/2025/12/0123T.jpg
ORGANIZER;CN="iLearn":MAILTO:cs@iblooming.ai
END:VEVENT
END:VCALENDAR