BEGIN:VCALENDAR
VERSION:2.0
PRODID:-//iBlooming - ECPv6.14.1//NONSGML v1.0//EN
CALSCALE:GREGORIAN
METHOD:PUBLISH
X-ORIGINAL-URL:http://iblooming.ai/km
X-WR-CALDESC:Events for iBlooming
REFRESH-INTERVAL;VALUE=DURATION:PT1H
X-Robots-Tag:noindex
X-PUBLISHED-TTL:PT1H
BEGIN:VTIMEZONE
TZID:Asia/Hong_Kong
BEGIN:STANDARD
TZOFFSETFROM:+0800
TZOFFSETTO:+0800
TZNAME:HKT
DTSTART:20260101T000000
END:STANDARD
END:VTIMEZONE
BEGIN:VEVENT
DTSTART;TZID=Asia/Hong_Kong:20260128T200000
DTEND;TZID=Asia/Hong_Kong:20260128T210000
DTSTAMP:20260422T071837
CREATED:20251226T031258Z
LAST-MODIFIED:20251226T031258Z
UID:10000260-1769630400-1769634000@iblooming.ai
SUMMARY:The Perfect Speech Class For Those Who Don’t Like To Speak: Impromptu Speaking Skills That Ace The Job Interview and Win The Pitch
DESCRIPTION:Master “The Perfect Speech Class For Those Who Don’t Like To Speak: Impromptu Speaking Skills That Ace the Job Interview and Win the Pitch” with Fursey Gotuaco\, as we uncover techniques to think quickly\, speak confidently\, and make a strong impression on the spot. This session will reveal practical strategies to handle unexpected questions\, deliver persuasive answers\, and stand out in high-pressure situations. \nLearn how to sharpen your impromptu speaking skills—transforming nervousness into confidence\, and turning every interview or pitch into an opportunity to impress and succeed. \nSpoken Language: English\nTime: 7:00 – 8:00 PM (GMT+7 JKT / KH)   |  8:00 – 9:00 PM (GMT+8 HK / MY)
URL:http://iblooming.ai/km/event/the-perfect-speech-class-for-those-who-dont-like-to-speak-impromptu-speaking-skills-that-ace-the-job-interview-and-win-the-pitch/
CATEGORIES:OnLive
ATTACH;FMTTYPE=image/jpeg:https://iblooming.ai/wp-content/uploads/2025/12/0128t.jpg
ORGANIZER;CN="iLearn":MAILTO:cs@iblooming.ai
END:VEVENT
END:VCALENDAR