BEGIN:VCALENDAR
VERSION:2.0
PRODID:-//iBlooming - ECPv6.14.1//NONSGML v1.0//EN
CALSCALE:GREGORIAN
METHOD:PUBLISH
X-ORIGINAL-URL:http://iblooming.ai/km
X-WR-CALDESC:Events for iBlooming
REFRESH-INTERVAL;VALUE=DURATION:PT1H
X-Robots-Tag:noindex
X-PUBLISHED-TTL:PT1H
BEGIN:VTIMEZONE
TZID:Asia/Hong_Kong
BEGIN:STANDARD
TZOFFSETFROM:+0800
TZOFFSETTO:+0800
TZNAME:HKT
DTSTART:20260101T000000
END:STANDARD
END:VTIMEZONE
BEGIN:VEVENT
DTSTART;TZID=Asia/Hong_Kong:20260131T120000
DTEND;TZID=Asia/Hong_Kong:20260131T130000
DTSTAMP:20260422T042812
CREATED:20251219T092931Z
LAST-MODIFIED:20251219T092931Z
UID:10000244-1769860800-1769864400@iblooming.ai
SUMMARY:Spiritual-based Leadership
DESCRIPTION:Explore “Spiritual-Based Leadership” with Mr. I Gede Adiputra\, as we examine how integrating faith\, values\, and purpose can transform the way we lead. This session will reveal how spiritual principles guide decision-making\, inspire teams\, and create meaningful impact in both personal and professional contexts. \nLearn how to cultivate leadership rooted in integrity\, empathy\, and vision—empowering you to influence others positively while aligning actions with higher purpose and ethical responsibility. \nSpoken Language: Indonesian\nTime: 12:00 PM (GMT+7 JKT / KH)   |  1:00 PM (GMT+8 HK / MY)
URL:http://iblooming.ai/km/event/spiritual-based-leadership/
CATEGORIES:OnLive
ATTACH;FMTTYPE=image/jpeg:https://iblooming.ai/wp-content/uploads/2025/12/0131T.jpg
ORGANIZER;CN="iLearn":MAILTO:cs@iblooming.ai
END:VEVENT
END:VCALENDAR