BEGIN:VCALENDAR
VERSION:2.0
PRODID:-//iBlooming - ECPv6.14.1//NONSGML v1.0//EN
CALSCALE:GREGORIAN
METHOD:PUBLISH
X-WR-CALNAME:iBlooming
X-ORIGINAL-URL:http://iblooming.ai/km
X-WR-CALDESC:Events for iBlooming
REFRESH-INTERVAL;VALUE=DURATION:PT1H
X-Robots-Tag:noindex
X-PUBLISHED-TTL:PT1H
BEGIN:VTIMEZONE
TZID:Asia/Hong_Kong
BEGIN:STANDARD
TZOFFSETFROM:+0800
TZOFFSETTO:+0800
TZNAME:HKT
DTSTART:20250101T000000
END:STANDARD
END:VTIMEZONE
BEGIN:VEVENT
DTSTART;TZID=Asia/Hong_Kong:20250807T200000
DTEND;TZID=Asia/Hong_Kong:20250807T210000
DTSTAMP:20260423T194911
CREATED:20250730T045836Z
LAST-MODIFIED:20250731T060352Z
UID:10000014-1754596800-1754600400@iblooming.ai
SUMMARY:SCRIPTURE: Is the Bible Truly the Infallible Word of God? What Are the Canon and the Apocrypha?
DESCRIPTION:Join us for “Scripture: Is The Bible Truly The Infallible Word of God?” with Dr. Rubin Adi Abraham M. Th\, as we examine what makes the Bible authoritative\, inspired\, and trustworthy. Dive deep into the meaning of canon\, the mystery of the apocrypha\, and the foundations of biblical inerrancy. \n  \nSpoken Language: Indonesian\nTime: 8:00 PM (GMT+7 JKT / KH)   |  9:00 PM (GMT+8 HK / MY)
URL:http://iblooming.ai/km/event/scripture-is-the-bible-truly-the-infallible-word-of-god-what-are-the-canon-and-the-apocrypha/
LOCATION:Business School
CATEGORIES:OnLive
ATTACH;FMTTYPE=image/jpeg:https://iblooming.ai/wp-content/uploads/2025/07/7-Aug-Eng_-SCRIPTURE_-Is-the-Bible-Truly-the-Infallible-Word-of-God_-What-Are-the-Canon-and-the-Apocrypha_-Dr.-Rubin-Adi-Abraham-M.jpg
ORGANIZER;CN="iLearn":MAILTO:cs@iblooming.ai
END:VEVENT
BEGIN:VEVENT
DTSTART;TZID=Asia/Hong_Kong:20250807T180000
DTEND;TZID=Asia/Hong_Kong:20250807T190000
DTSTAMP:20260423T194911
CREATED:20250804T090339Z
LAST-MODIFIED:20250804T090339Z
UID:10000038-1754589600-1754593200@iblooming.ai
SUMMARY:Entrepreneurship Mentality
DESCRIPTION:In this high-energy session\, 𝐁𝐚𝐧𝐠 𝐄𝐤𝐤𝐲\, an MBA graduate\, former US-based professional\, silat coach\, author\, and Executive Producer at ESM TV\, shares powerful tools to help you develop the habits and courage to become your own boss. \nSpoken Language: Indonesian\nTime: 5:00 – 6:00 PM (GMT+7 JKT / KH)   |  6:00 – 7:00 PM (GMT+8 HK / MY)
URL:http://iblooming.ai/km/event/entrepreneurship-mentality/
CATEGORIES:OnLive
ATTACH;FMTTYPE=image/jpeg:https://iblooming.ai/wp-content/uploads/2025/08/0708-Entrepreneurship-Mentality-Bang-Ekky.jpg
ORGANIZER;CN="iLearn":MAILTO:cs@iblooming.ai
END:VEVENT
BEGIN:VEVENT
DTSTART;TZID=Asia/Hong_Kong:20250806T180000
DTEND;TZID=Asia/Hong_Kong:20250806T190000
DTSTAMP:20260423T194911
CREATED:20250801T031021Z
LAST-MODIFIED:20250805T070740Z
UID:10000035-1754503200-1754506800@iblooming.ai
SUMMARY:Mastering Salty & Pepper Lobster
DESCRIPTION:Join us for “Mastering Salty & Pepper Lobster” with home cooking expert Carson Chan\, as he guides you through the techniques behind one of the most beloved seafood dishes. From selecting the right ingredients to mastering the perfect balance of flavors\, this session is perfect for anyone looking to elevate their cooking skills.\n \nTime: 5:00 – 6:00 PM (GMT+7 JKT / KH)   |  6:00 – 7:00 PM (GMT+8 HK / MY)
URL:http://iblooming.ai/km/event/stay-tuned-2/
CATEGORIES:OnLive
ATTACH;FMTTYPE=image/jpeg:https://iblooming.ai/wp-content/uploads/2025/08/Thumbnail-13.jpg
ORGANIZER;CN="iLearn":MAILTO:cs@iblooming.ai
END:VEVENT
BEGIN:VEVENT
DTSTART;TZID=Asia/Hong_Kong:20250805T200000
DTEND;TZID=Asia/Hong_Kong:20250805T210000
DTSTAMP:20260423T194911
CREATED:20250801T030554Z
LAST-MODIFIED:20250804T020400Z
UID:10000034-1754424000-1754427600@iblooming.ai
SUMMARY:Branding is Not Visual Only
DESCRIPTION:Join 𝐌𝐚𝐫𝐢𝐨 𝐔𝐭𝐚𝐦𝐚\, brand consultant and business owner\, and 𝐎𝐧𝐠𝐠𝐲 𝐇𝐢𝐚𝐧𝐚𝐭𝐚\, entrepreneur and author\, as they share real strategies for building a brand that goes beyond the surface. Whether you’re starting from scratch or looking to grow\, this session will help you craft a brand identity that truly speaks. \nJoin Zoom Meeting: https://tinyurl.com/GiMTuesday\n \nSpoken Language: English\nTime: 7:00 – 8:00 PM (GMT+7 JKT / KH)   |  8:00 – 9:00 PM (GMT+8 HK / MY)
URL:http://iblooming.ai/km/event/branding-is-not-visual-only/
CATEGORIES:OnLive
ATTACH;FMTTYPE=image/jpeg:https://iblooming.ai/wp-content/uploads/2025/08/Thumbnail-10.jpg
ORGANIZER;CN="iLearn":MAILTO:cs@iblooming.ai
END:VEVENT
BEGIN:VEVENT
DTSTART;TZID=Asia/Hong_Kong:20250804T200000
DTEND;TZID=Asia/Hong_Kong:20250804T210000
DTSTAMP:20260423T194911
CREATED:20250731T055641Z
LAST-MODIFIED:20250731T071652Z
UID:10000031-1754337600-1754341200@iblooming.ai
SUMMARY:Best Way To Grow Your Money!! Investing vs Trading
DESCRIPTION:Join us for a powerful financial session with Andreas Hartono — Certified Financial Planner\, master trainer\, and CEO of Andreas-Hartono Academy. With years of hands-on experience and a passion for financial education\, he’s here to help you make smarter money moves. \nWhat’s the best way to grow your money—investing or trading? Discover the key differences\, hidden risks\, and long-term strategies that actually work. Whether you’re a beginner or looking to sharpen your skills\, this session will give you the clarity and confidence to take control of your financial future. \nSpoken Language: Indonesia\nTime: 7:00 – 8:00 PM (GMT+7 JKT / KH)   |  8:00 – 9:00 PM (GMT+8 HK / MY)
URL:http://iblooming.ai/km/event/best-way-to-grow-your-money-investing-vs-trading/
LOCATION:Business School
CATEGORIES:OnLive
ATTACH;FMTTYPE=image/jpeg:https://iblooming.ai/wp-content/uploads/2025/07/Thumbnail-8.jpg
ORGANIZER;CN="iLearn":MAILTO:cs@iblooming.ai
END:VEVENT
BEGIN:VEVENT
DTSTART;VALUE=DATE:20250803
DTEND;VALUE=DATE:20250804
DTSTAMP:20260423T194911
CREATED:20250731T040958Z
LAST-MODIFIED:20250808T010631Z
UID:10000019-1754179200-1754265599@iblooming.ai
SUMMARY:Break & Breathe
DESCRIPTION:Release · Rest · Return
URL:http://iblooming.ai/km/event/7-irest-sunday/
CATEGORIES:OnLive
ATTACH;FMTTYPE=image/png:https://iblooming.ai/wp-content/uploads/2025/07/iLearn-Break.png
END:VEVENT
BEGIN:VEVENT
DTSTART;TZID=Asia/Hong_Kong:20250802T110000
DTEND;TZID=Asia/Hong_Kong:20250802T120000
DTSTAMP:20260423T194911
CREATED:20250730T025705Z
LAST-MODIFIED:20250731T060342Z
UID:10000011-1754132400-1754136000@iblooming.ai
SUMMARY:iLearn Coach: 2.2 Coaching Power Tools (Part 2)
DESCRIPTION:Join us for “Coaching Power Tools (Part 2)” with expert coach Adibah M Saleh as we explore powerful questioning\, deeper listening\, and the surprising role of silence in coaching. Unlock communication tools that foster trust\, clarity\, and transformation. This is where real coaching begins—let’s get started! \nSpoken Language: English\nTime: 10:00 AM (GMT+7 JKT / KH)   |  11:00 AM (GMT+8 HK / MY)
URL:http://iblooming.ai/km/event/ilearn-coach-draft/
LOCATION:Business School
CATEGORIES:OnLive
ATTACH;FMTTYPE=image/jpeg:https://iblooming.ai/wp-content/uploads/2025/07/2-Aug-25_-Coaching-Power-Tools-Adibah-M-Saleh.jpg
ORGANIZER;CN="iLearn":MAILTO:cs@iblooming.ai
END:VEVENT
BEGIN:VEVENT
DTSTART;TZID=Asia/Hong_Kong:20250802T060000
DTEND;TZID=Asia/Hong_Kong:20250802T073000
DTSTAMP:20260423T194911
CREATED:20250731T044400Z
LAST-MODIFIED:20250801T081831Z
UID:10000027-1754114400-1754119800@iblooming.ai
SUMMARY:Morning Shower & Morning Feeding Pt. 22
DESCRIPTION:Are you ready to transform your life from the inside out? Imagine waking up each day feeling centered\, confident\, and deeply connected to your true self. \nMS&MF: Reconnect\, Reflect\, and Reclaim Your Greatness! \nMS&MF is a transformative personal reflection program designed to help you grow your inner world and reclaim your greatness. \nThis step-by-step journey empowers you to break free from external validation and cultivate a life of inner peace\, joy\, and true freedom. \n  \n  \nWhat You’ll Gain: \n✅ Deep Self-Reflection – Understand yourself on a profound level.\n✅ Daily Revisitation – Reinforce personal growth every day.\n✅ Freedom from Seeking Approval – Live for yourself\, not for others.\n✅ Inner Joy & Peace – Find happiness from within.\n✅ Awaken Your Inner Voice – Trust your intuition and wisdom.\n✅ Embrace Your True Self – Be unapologetically you.\n✅ Experience True Freedom – Break free from limitations.\n✅ And more! \nThis program is for everyone!\nIt’s time to stop living on autopilot and start creating a life that aligns with your deepest values and desires. \nJoin us today and take the first step toward a more joyful\, authentic\, and empowered you. \nSpoken Language: Indonesia\nTime: 5:00 – 6:30 AM (GMT+7 JKT / KH)   |  6:00 – 7:30 AM (GMT+8 HK / MY) \n 
URL:http://iblooming.ai/km/event/morning-shower-morning-feeding-pt-22/
CATEGORIES:OnLive
ATTACH;FMTTYPE=image/jpeg:https://iblooming.ai/wp-content/uploads/2025/07/Thumbnail-9.jpg
END:VEVENT
BEGIN:VEVENT
DTSTART;TZID=Asia/Hong_Kong:20250801T160000
DTEND;TZID=Asia/Hong_Kong:20250801T170000
DTSTAMP:20260423T194911
CREATED:20250731T043032Z
LAST-MODIFIED:20250731T071612Z
UID:10000025-1754064000-1754067600@iblooming.ai
SUMMARY:Prepare Qualified Generation Before Fertilitization
DESCRIPTION:Join us for an insightful health talk with Dr. Amillia Siddiq\, SpOG\, SubSp KFm\, MSi — a specialist in obstetrics\, gynecology\, and fetomaternal medicine\, dedicated to shaping healthier future generations through science-backed prenatal care. \nDiscover why preparing for a qualified generation starts before fertilization. In this empowering session\, Dr. Amillia will share how early planning\, maternal health\, and fetal care play a crucial role in building strong foundations for lifelong well-being. This is essential knowledge for future parents\, educators\, and healthcare advocates alike! \nSpoken Language: Indonesian\nTime: 3:00 – 4:00 PM (GMT+7 JKT / KH)   |  4:00 – 5:00 PM (GMT+8 HK / MY)
URL:http://iblooming.ai/km/event/prepare-qualified-generation-before-fertilitization/
LOCATION:Business School
CATEGORIES:OnLive
ATTACH;FMTTYPE=image/jpeg:https://iblooming.ai/wp-content/uploads/2025/07/Thumbnail-7.jpg
ORGANIZER;CN="iLearn":MAILTO:cs@iblooming.ai
END:VEVENT
END:VCALENDAR