BEGIN:VCALENDAR
VERSION:2.0
PRODID:-//iBlooming - ECPv6.14.1//NONSGML v1.0//EN
CALSCALE:GREGORIAN
METHOD:PUBLISH
X-ORIGINAL-URL:http://iblooming.ai/zh
X-WR-CALDESC:iBlooming的活动
REFRESH-INTERVAL;VALUE=DURATION:PT1H
X-Robots-Tag:noindex
X-PUBLISHED-TTL:PT1H
BEGIN:VTIMEZONE
TZID:Asia/Hong_Kong
BEGIN:STANDARD
TZOFFSETFROM:+0800
TZOFFSETTO:+0800
TZNAME:HKT
DTSTART:20250101T000000
END:STANDARD
END:VTIMEZONE
BEGIN:VEVENT
DTSTART;TZID=Asia/Hong_Kong:20250819T200000
DTEND;TZID=Asia/Hong_Kong:20250819T210000
DTSTAMP:20260423T173923
CREATED:20250807T031959Z
LAST-MODIFIED:20250816T135031Z
UID:10000054-1755633600-1755637200@iblooming.ai
SUMMARY:Education for All\, Prosperous Nation
DESCRIPTION:  \n \nJoin us for “Education for All\, Prosperous Nation” with Y. Handoyo Budhisedjati\, SH and Onggy Hianata as we explore how equal access to education can transform individuals\, communities\, and entire countries. This session will highlight the vital role of education in building both personal success and national prosperity. \nWhether you’re an educator\, policymaker\, or lifelong learner\, gain insights into how investing in education creates opportunities\, reduces inequality\, and paves the way for a brighter future for all. \nJoin Zoom Meeting: https://tinyurl.com/GiMTuesday\n \nSpoken Language: Indonesian\nTime: 7:00 – 8:00 PM (GMT+7 JKT / KH)   |  8:00 – 9:00 PM (GMT+8 HK / MY)
URL:http://iblooming.ai/zh/event/stay-tuned-4/
LOCATION:Business School
CATEGORIES:OnLive
ATTACH;FMTTYPE=image/jpeg:https://iblooming.ai/wp-content/uploads/2025/08/Thumbnail.jpg
ORGANIZER;CN="iLearn":MAILTO:cs@iblooming.ai
END:VEVENT
END:VCALENDAR