BEGIN:VCALENDAR
VERSION:2.0
PRODID:-//iBlooming - ECPv6.14.1//NONSGML v1.0//EN
CALSCALE:GREGORIAN
METHOD:PUBLISH
X-ORIGINAL-URL:http://iblooming.ai/zh
X-WR-CALDESC:iBlooming的活动
REFRESH-INTERVAL;VALUE=DURATION:PT1H
X-Robots-Tag:noindex
X-PUBLISHED-TTL:PT1H
BEGIN:VTIMEZONE
TZID:Asia/Hong_Kong
BEGIN:STANDARD
TZOFFSETFROM:+0800
TZOFFSETTO:+0800
TZNAME:HKT
DTSTART:20250101T000000
END:STANDARD
END:VTIMEZONE
BEGIN:VEVENT
DTSTART;TZID=Asia/Hong_Kong:20250821T180000
DTEND;TZID=Asia/Hong_Kong:20250821T190000
DTSTAMP:20260423T155710
CREATED:20250806T020550Z
LAST-MODIFIED:20250806T020550Z
UID:10000051-1755799200-1755802800@iblooming.ai
SUMMARY:The Realities and Rewards of Entrepreneurship: From Idea to Impact
DESCRIPTION:Join us for “iLearn Business: The Realities and Rewards of Entrepreneurship” with experienced entrepreneur Oluwabunmi Asala\, as we explore what it truly takes to turn an idea into lasting impact. Discover the mindset shifts\, practical strategies\, and personal growth behind every successful venture. \nWhether you’re just starting out or scaling your business\, this session will help you navigate challenges and stay grounded in your purpose. Real stories\, real lessons—no sugarcoating\, just truth and transformation. \n  \nSpoken Language: Indonesian\nTime: 5:00 – 6:00 PM (GMT+7 JKT / KH)   |  6:00 – 7:00 PM (GMT+8 HK / MY)
URL:http://iblooming.ai/zh/event/the-realities-and-rewards-of-entrepreneurship-from-idea-to-impact/
LOCATION:Business School
CATEGORIES:OnLive
ATTACH;FMTTYPE=image/jpeg:https://iblooming.ai/wp-content/uploads/2025/08/2108-t.jpg
ORGANIZER;CN="iLearn":MAILTO:cs@iblooming.ai
END:VEVENT
BEGIN:VEVENT
DTSTART;TZID=Asia/Hong_Kong:20250821T200000
DTEND;TZID=Asia/Hong_Kong:20250821T210000
DTSTAMP:20260423T155710
CREATED:20250805T102905Z
LAST-MODIFIED:20250805T102905Z
UID:10000046-1755806400-1755810000@iblooming.ai
SUMMARY:GOD 2: What Is the Meaning of the Trinity? How Did God Create the Universe?
DESCRIPTION:Explore the meaning of the Trinity and the mystery of creation with Dr. Rubin Adi Abraham in “GOD 2: What Is the Meaning of the Trinity? How Did God Create the Universe?” \nThis session will guide you through key theological concepts\, offering clarity on one of the core beliefs of Christianity and the divine act of creation. \n  \nSpoken Language: Indonesian\nTime: 8:00 PM (GMT+7 JKT / KH)   |  9:00 PM (GMT+8 HK / MY)
URL:http://iblooming.ai/zh/event/god-2-what-is-the-meaning-of-the-trinity-how-did-god-create-the-universe/
LOCATION:Business School
CATEGORIES:OnLive
ATTACH;FMTTYPE=image/jpeg:https://iblooming.ai/wp-content/uploads/2025/08/2108t.jpg
ORGANIZER;CN="iLearn":MAILTO:cs@iblooming.ai
END:VEVENT
END:VCALENDAR