BEGIN:VCALENDAR
VERSION:2.0
PRODID:-//iBlooming - ECPv6.14.1//NONSGML v1.0//EN
CALSCALE:GREGORIAN
METHOD:PUBLISH
X-WR-CALNAME:iBlooming
X-ORIGINAL-URL:http://iblooming.ai/zh
X-WR-CALDESC:iBlooming的活动
REFRESH-INTERVAL;VALUE=DURATION:PT1H
X-Robots-Tag:noindex
X-PUBLISHED-TTL:PT1H
BEGIN:VTIMEZONE
TZID:Asia/Hong_Kong
BEGIN:STANDARD
TZOFFSETFROM:+0800
TZOFFSETTO:+0800
TZNAME:HKT
DTSTART:20250101T000000
END:STANDARD
END:VTIMEZONE
BEGIN:VEVENT
DTSTART;TZID=Asia/Hong_Kong:20250822T160000
DTEND;TZID=Asia/Hong_Kong:20250822T170000
DTSTAMP:20260423T143729
CREATED:20250807T032412Z
LAST-MODIFIED:20250815T022137Z
UID:10000057-1755878400-1755882000@iblooming.ai
SUMMARY:Flexibility: The Basic Foundation Everyone Can Do but Often Forgets
DESCRIPTION:Join us for “Flexibility: The Basic Foundation Everyone Can Do but Often Forgets” with Dr. Fahmy Fachrezzy\, M.Pd.\, AIFO-P as we revisit one of the most essential yet overlooked aspects of physical wellness. This session will reveal why flexibility is more than just stretching—it’s the key to better movement\, injury prevention\, and long-term health. \nWhether you’re an athlete\, a fitness enthusiast\, or simply looking to improve daily mobility\, discover simple\, practical ways to build and maintain flexibility for life. \nSpoken Language: Indonesian\nTime: 3:00 – 4:00 PM (GMT+7 JKT / KH)   |  4:00 – 5:00 PM (GMT+8 HK / MY)
URL:http://iblooming.ai/zh/event/stay-tuned-7/
LOCATION:Business School
CATEGORIES:OnLive
ATTACH;FMTTYPE=image/jpeg:https://iblooming.ai/wp-content/uploads/2025/08/2208.jpg
ORGANIZER;CN="iLearn":MAILTO:cs@iblooming.ai
END:VEVENT
END:VCALENDAR