BEGIN:VCALENDAR
VERSION:2.0
PRODID:-//iBlooming - ECPv6.14.1//NONSGML v1.0//EN
CALSCALE:GREGORIAN
METHOD:PUBLISH
X-ORIGINAL-URL:http://iblooming.ai/zh
X-WR-CALDESC:iBlooming的活动
REFRESH-INTERVAL;VALUE=DURATION:PT1H
X-Robots-Tag:noindex
X-PUBLISHED-TTL:PT1H
BEGIN:VTIMEZONE
TZID:Asia/Hong_Kong
BEGIN:STANDARD
TZOFFSETFROM:+0800
TZOFFSETTO:+0800
TZNAME:HKT
DTSTART:20250101T000000
END:STANDARD
END:VTIMEZONE
BEGIN:VEVENT
DTSTART;TZID=Asia/Hong_Kong:20250823T060000
DTEND;TZID=Asia/Hong_Kong:20250823T073000
DTSTAMP:20260423T143641
CREATED:20250723T044500Z
LAST-MODIFIED:20250731T071822Z
UID:10000029-1755928800-1755934200@iblooming.ai
SUMMARY:Morning Shower & Morning Feeding Pt. 25
DESCRIPTION:Are you ready to transform your life from the inside out? Imagine waking up each day feeling centered\, confident\, and deeply connected to your true self. \nMS&MF: Reconnect\, Reflect\, and Reclaim Your Greatness! \nMS&MF is a transformative personal reflection program designed to help you grow your inner world and reclaim your greatness. \nThis step-by-step journey empowers you to break free from external validation and cultivate a life of inner peace\, joy\, and true freedom. \nWhat You’ll Gain: \n✅ Deep Self-Reflection – Understand yourself on a profound level.\n✅ Daily Revisitation – Reinforce personal growth every day.\n✅ Freedom from Seeking Approval – Live for yourself\, not for others.\n✅ Inner Joy & Peace – Find happiness from within.\n✅ Awaken Your Inner Voice – Trust your intuition and wisdom.\n✅ Embrace Your True Self – Be unapologetically you.\n✅ Experience True Freedom – Break free from limitations.\n✅ And more! \nThis program is for everyone!\nIt’s time to stop living on autopilot and start creating a life that aligns with your deepest values and desires. \nJoin us today and take the first step toward a more joyful\, authentic\, and empowered you. \nSpoken Language: Indonesia\nTime: 5:00 – 6:30 AM (GMT+7 JKT / KH)   |  6:00 – 7:30 AM (GMT+8 HK / MY) \n 
URL:http://iblooming.ai/zh/event/morning-shower-morning-feeding-pt-25/
CATEGORIES:OnLive
ATTACH;FMTTYPE=image/jpeg:https://iblooming.ai/wp-content/uploads/2025/07/Thumbnail-9.jpg
END:VEVENT
BEGIN:VEVENT
DTSTART;TZID=Asia/Hong_Kong:20250823T110000
DTEND;TZID=Asia/Hong_Kong:20250823T120000
DTSTAMP:20260423T143641
CREATED:20250805T101733Z
LAST-MODIFIED:20250819T083216Z
UID:10000043-1755946800-1755950400@iblooming.ai
SUMMARY:iLearn Coach: 3.3  O.S.K.A.R. Model
DESCRIPTION:Join us for iLearn Coach: 3.3 O.S.K.A.R. Model with Ho Sze Chieng \, as we explore a practical\, solution-focused framework for effective coaching. Learn how to structure your sessions using Outcome\, Scaling\, Know-how\, Affirmation & Action\, and Review — all designed to create meaningful change and forward momentum. \nWhether you’re coaching individuals or teams\, this model helps keep conversations clear\, focused\, and results-oriented. Let’s take your coaching to the next level. \nSpoken Language: English\nTime: 10:00 AM (GMT+7 JKT / KH)   |  11:00 AM (GMT+8 HK / MY)
URL:http://iblooming.ai/zh/event/ilearn-coach-3-3-o-s-k-a-r-model/
LOCATION:Business School
CATEGORIES:OnLive
ATTACH;FMTTYPE=image/jpeg:https://iblooming.ai/wp-content/uploads/2025/08/Thumbnail-12-1.jpg
ORGANIZER;CN="iLearn":MAILTO:cs@iblooming.ai
END:VEVENT
END:VCALENDAR