BEGIN:VCALENDAR
VERSION:2.0
PRODID:-//iBlooming - ECPv6.14.1//NONSGML v1.0//EN
CALSCALE:GREGORIAN
METHOD:PUBLISH
X-WR-CALNAME:iBlooming
X-ORIGINAL-URL:http://iblooming.ai/zh
X-WR-CALDESC:iBlooming的活动
REFRESH-INTERVAL;VALUE=DURATION:PT1H
X-Robots-Tag:noindex
X-PUBLISHED-TTL:PT1H
BEGIN:VTIMEZONE
TZID:Asia/Hong_Kong
BEGIN:STANDARD
TZOFFSETFROM:+0800
TZOFFSETTO:+0800
TZNAME:HKT
DTSTART:20250101T000000
END:STANDARD
END:VTIMEZONE
BEGIN:VEVENT
DTSTART;TZID=Asia/Hong_Kong:20250917T180000
DTEND;TZID=Asia/Hong_Kong:20250917T190000
DTSTAMP:20260423T150223
CREATED:20250908T073650Z
LAST-MODIFIED:20250915T060037Z
UID:10000096-1758132000-1758135600@iblooming.ai
SUMMARY:Courage Over Cancer: How Fighting Spirit Shapes Healing
DESCRIPTION:Discover “Courage Over Cancer: How Fighting Spirit Shapes Healing” with Riem Sok Chamroeun as he shares an inspiring journey of resilience and hope. This session explores how inner strength\, mindset\, and courage play a powerful role in the healing process. \nWhether you’re supporting a loved one\, facing challenges yourself\, or seeking motivation\, this session will show how the power of spirit can make a real difference in overcoming life’s battles. \n  \nSpoken Language: KHMER\nTime: 5:00 – 6:00 PM (GMT+7 JKT / KH)   |  6:00 – 7:00 PM (GMT+8 HK / MY)
URL:http://iblooming.ai/zh/event/stay-tuned-12/
LOCATION:Business School
CATEGORIES:OnLive
ATTACH;FMTTYPE=image/jpeg:https://iblooming.ai/wp-content/uploads/2025/09/1709-Courage-Over-Cancer_-How-Fighting-Spirit-Shapes-Healing-Riem-Sok-Chamroeun.jpg
ORGANIZER;CN="iLearn":MAILTO:cs@iblooming.ai
END:VEVENT
END:VCALENDAR