BEGIN:VCALENDAR
VERSION:2.0
PRODID:-//iBlooming - ECPv6.14.1//NONSGML v1.0//EN
CALSCALE:GREGORIAN
METHOD:PUBLISH
X-WR-CALNAME:iBlooming
X-ORIGINAL-URL:http://iblooming.ai/zh
X-WR-CALDESC:iBlooming的活动
REFRESH-INTERVAL;VALUE=DURATION:PT1H
X-Robots-Tag:noindex
X-PUBLISHED-TTL:PT1H
BEGIN:VTIMEZONE
TZID:Asia/Hong_Kong
BEGIN:STANDARD
TZOFFSETFROM:+0800
TZOFFSETTO:+0800
TZNAME:HKT
DTSTART:20250101T000000
END:STANDARD
END:VTIMEZONE
BEGIN:VEVENT
DTSTART;TZID=Asia/Hong_Kong:20250924T180000
DTEND;TZID=Asia/Hong_Kong:20250924T190000
DTSTAMP:20260423T162118
CREATED:20250904T031128Z
LAST-MODIFIED:20250904T031128Z
UID:10000087-1758736800-1758740400@iblooming.ai
SUMMARY:Mindful Communication: The Key to Collaboration and Success
DESCRIPTION:Discover “Mindful Communication: The Key to Collaboration and Success” with Anastasia Setyo Lestari\, S.Psi as she shares how conscious and intentional communication can strengthen teamwork and relationships. This session explores practical tools to listen actively\, express clearly\, and build trust in every interaction. \nWhether in the workplace or personal life\, learn how mindful communication can unlock better collaboration and pave the way for lasting success. \n  \nSpoken Language: Indonesian\nTime: 5:00 – 6:00 PM (GMT+7 JKT / KH)   |  6:00 – 7:00 PM (GMT+8 HK / MY)
URL:http://iblooming.ai/zh/event/mindful-communication-the-key-to-collaboration-and-success/
CATEGORIES:OnLive
ATTACH;FMTTYPE=image/jpeg:https://iblooming.ai/wp-content/uploads/2025/09/Thumbnail.jpg
ORGANIZER;CN="iLearn":MAILTO:cs@iblooming.ai
END:VEVENT
END:VCALENDAR