BEGIN:VCALENDAR
VERSION:2.0
PRODID:-//iBlooming - ECPv6.14.1//NONSGML v1.0//EN
CALSCALE:GREGORIAN
METHOD:PUBLISH
X-WR-CALNAME:iBlooming
X-ORIGINAL-URL:http://iblooming.ai/zh
X-WR-CALDESC:iBlooming的活动
REFRESH-INTERVAL;VALUE=DURATION:PT1H
X-Robots-Tag:noindex
X-PUBLISHED-TTL:PT1H
BEGIN:VTIMEZONE
TZID:Asia/Hong_Kong
BEGIN:STANDARD
TZOFFSETFROM:+0800
TZOFFSETTO:+0800
TZNAME:HKT
DTSTART:20250101T000000
END:STANDARD
END:VTIMEZONE
BEGIN:VEVENT
DTSTART;TZID=Asia/Hong_Kong:20251009T180000
DTEND;TZID=Asia/Hong_Kong:20251009T190000
DTSTAMP:20260423T173730
CREATED:20251002T015434Z
LAST-MODIFIED:20251002T015510Z
UID:10000128-1760032800-1760036400@iblooming.ai
SUMMARY:Property For Prosperity
DESCRIPTION:Join us for “Property For Prosperity” with Brili Agung\, as we explore how strategic property investment can be a powerful tool for building long-term wealth. This session will cover practical approaches to investing\, managing\, and growing property assets to create financial stability and prosperity. \nWhether you’re a first-time investor or looking to expand your portfolio\, this session will equip you with the knowledge and strategies to make informed property decisions and achieve lasting financial growth. \nSpoken Language: Indonesian\nTime: 5:00 – 6:00 PM (GMT+7 JKT / KH)   |  6:00 – 7:00 PM (GMT+8 HK / MY)
URL:http://iblooming.ai/zh/event/property-for-prosperity/
CATEGORIES:OnLive
ATTACH;FMTTYPE=image/jpeg:https://iblooming.ai/wp-content/uploads/2025/10/0910t.jpg
ORGANIZER;CN="iLearn":MAILTO:cs@iblooming.ai
END:VEVENT
BEGIN:VEVENT
DTSTART;TZID=Asia/Hong_Kong:20251009T200000
DTEND;TZID=Asia/Hong_Kong:20251009T210000
DTSTAMP:20260423T173730
CREATED:20250922T045537Z
LAST-MODIFIED:20250922T045537Z
UID:10000111-1760040000-1760043600@iblooming.ai
SUMMARY:HOLY SPIRIT: What Is the Baptism and the Gifts of the Holy Spirit? Are Tongues and Miracles Still Present Today?
DESCRIPTION:Join us for “HOLY SPIRIT: What Is the Baptism and the Gifts of the Holy Spirit? Are Tongues and Miracles Still Present Today?” with Dr. Rubin Adi Abraham\, M.Th as we dive into the biblical truth about the Holy Spirit’s work in the life of believers. This session will explore the meaning of Spirit baptism\, the gifts He imparts\, and the relevance of tongues and miracles in the church today. \n  \nSpoken Language: Indonesian\nTime: 8:00 PM (GMT+7 JKT / KH)   |  9:00 PM (GMT+8 HK / MY)
URL:http://iblooming.ai/zh/event/holy-spirit-what-is-the-baptism-and-the-gifts-of-the-holy-spirit-are-tongues-and-miracles-still-present-today/
LOCATION:Business School
CATEGORIES:OnLive
ATTACH;FMTTYPE=image/jpeg:https://iblooming.ai/wp-content/uploads/2025/09/0910t.jpg
ORGANIZER;CN="iLearn":MAILTO:cs@iblooming.ai
END:VEVENT
END:VCALENDAR