BEGIN:VCALENDAR
VERSION:2.0
PRODID:-//iBlooming - ECPv6.14.1//NONSGML v1.0//EN
CALSCALE:GREGORIAN
METHOD:PUBLISH
X-ORIGINAL-URL:http://iblooming.ai/zh
X-WR-CALDESC:iBlooming的活动
REFRESH-INTERVAL;VALUE=DURATION:PT1H
X-Robots-Tag:noindex
X-PUBLISHED-TTL:PT1H
BEGIN:VTIMEZONE
TZID:Asia/Hong_Kong
BEGIN:STANDARD
TZOFFSETFROM:+0800
TZOFFSETTO:+0800
TZNAME:HKT
DTSTART:20250101T000000
END:STANDARD
END:VTIMEZONE
BEGIN:VEVENT
DTSTART;TZID=Asia/Hong_Kong:20251020T180000
DTEND;TZID=Asia/Hong_Kong:20251020T190000
DTSTAMP:20260423T083755
CREATED:20250923T022118Z
LAST-MODIFIED:20251020T104453Z
UID:10000114-1760983200-1760986800@iblooming.ai
SUMMARY:The Missional Church Facing Global Disruption
DESCRIPTION:Join us for “The Missional Church Facing Global Disruption” withProf. Dr. F. Irwan Widjaja\, MAIE.\,Ph.Das we uncover how true worship goes beyond the sanctuary and flows into active mission. This session will highlight the vital connection between honoring God in worship and serving Him through mission in the world. \nWhether you’re searching for direction in your faith or motivation to live more purposefully\, this session will encourage you to answer the call with conviction and hope. \nSpoken Language: Indonesian \nTime: 5:00 – 6:00 PM (GMT+7 JKT / KH)   |  6:00 – 7:00 PM (GMT+8 HK / MY)
URL:http://iblooming.ai/zh/event/from-worship-to-worshout-linking-worship-with-mission/
LOCATION:Business School
CATEGORIES:OnLive
ATTACH;FMTTYPE=image/jpeg:https://iblooming.ai/wp-content/uploads/2025/09/Thumbnail-10.jpg
END:VEVENT
BEGIN:VEVENT
DTSTART;TZID=Asia/Hong_Kong:20251020T200000
DTEND;TZID=Asia/Hong_Kong:20251020T210000
DTSTAMP:20260423T083755
CREATED:20251014T075946Z
LAST-MODIFIED:20251014T075946Z
UID:10000142-1760990400-1760994000@iblooming.ai
SUMMARY:Artificial Intelligence: Boom or Bubble?
DESCRIPTION:Join us for “Artificial Intelligence: Boom or Bubble?” with Fery Setiawan\, as we delve into the rise of AI and its impact on industries\, innovation\, and everyday life. This session will explore whether AI represents a lasting technological revolution or a temporary hype—offering balanced insights into its opportunities and challenges. \nDiscover how understanding AI’s real potential can help you adapt\, stay relevant\, and make informed decisions in an era driven by intelligent technology. \nSpoken Language: Indonesia\nTime: 7:00 – 8:00 PM (GMT+7 JKT / KH)   |  8:00 – 9:00 PM (GMT+8 HK / MY)
URL:http://iblooming.ai/zh/event/artificial-intelligence-boom-or-bubble/
LOCATION:Business School
CATEGORIES:OnLive
ATTACH;FMTTYPE=image/jpeg:https://iblooming.ai/wp-content/uploads/2025/10/Thumbnail-4.jpg
ORGANIZER;CN="iLearn":MAILTO:cs@iblooming.ai
END:VEVENT
END:VCALENDAR