BEGIN:VCALENDAR
VERSION:2.0
PRODID:-//iBlooming - ECPv6.14.1//NONSGML v1.0//EN
CALSCALE:GREGORIAN
METHOD:PUBLISH
X-ORIGINAL-URL:http://iblooming.ai/zh
X-WR-CALDESC:iBlooming的活动
REFRESH-INTERVAL;VALUE=DURATION:PT1H
X-Robots-Tag:noindex
X-PUBLISHED-TTL:PT1H
BEGIN:VTIMEZONE
TZID:Asia/Hong_Kong
BEGIN:STANDARD
TZOFFSETFROM:+0800
TZOFFSETTO:+0800
TZNAME:HKT
DTSTART:20250101T000000
END:STANDARD
END:VTIMEZONE
BEGIN:VEVENT
DTSTART;TZID=Asia/Hong_Kong:20251021T200000
DTEND;TZID=Asia/Hong_Kong:20251021T210000
DTSTAMP:20260423T083758
CREATED:20251008T014530Z
LAST-MODIFIED:20251008T014530Z
UID:10000133-1761076800-1761080400@iblooming.ai
SUMMARY:Sales\, A Profession With 1001 Opportunities
DESCRIPTION:Join us for “Sales\, A Profession With 1001 Opportunities” with Indra Hadiwidjaja\, as we uncover the limitless potential within the world of sales. This session will reveal how sales is more than just a career—it’s a journey of growth\, influence\, and creating value for others. \nDiscover how mastering the art of connection\, trust\, and communication can open doors to endless opportunities and transform the way you see success. \nJoin Zoom Meeting: https://tinyurl.com/GiMTuesday\n \nSpoken Language: Indonesian\nTime: 7:00 – 8:00 PM (GMT+7 JKT / KH)   |  8:00 – 9:00 PM (GMT+8 HK / MY)
URL:http://iblooming.ai/zh/event/sales-a-profession-with-1001-opportunities/
CATEGORIES:OnLive
ATTACH;FMTTYPE=image/jpeg:https://iblooming.ai/wp-content/uploads/2025/10/2110t.jpg
ORGANIZER;CN="iLearn":MAILTO:cs@iblooming.ai
END:VEVENT
END:VCALENDAR