BEGIN:VCALENDAR
VERSION:2.0
PRODID:-//iBlooming - ECPv6.14.1//NONSGML v1.0//EN
CALSCALE:GREGORIAN
METHOD:PUBLISH
X-WR-CALNAME:iBlooming
X-ORIGINAL-URL:http://iblooming.ai/zh
X-WR-CALDESC:iBlooming的活动
REFRESH-INTERVAL;VALUE=DURATION:PT1H
X-Robots-Tag:noindex
X-PUBLISHED-TTL:PT1H
BEGIN:VTIMEZONE
TZID:Asia/Hong_Kong
BEGIN:STANDARD
TZOFFSETFROM:+0800
TZOFFSETTO:+0800
TZNAME:HKT
DTSTART:20250101T000000
END:STANDARD
END:VTIMEZONE
BEGIN:VEVENT
DTSTART;TZID=Asia/Hong_Kong:20251029T180000
DTEND;TZID=Asia/Hong_Kong:20251029T190000
DTSTAMP:20260423T151032
CREATED:20250923T023519Z
LAST-MODIFIED:20250923T023519Z
UID:10000118-1761760800-1761764400@iblooming.ai
SUMMARY:Computational Thinking and Its Applications in Everyday Life
DESCRIPTION:Join us for “Computational Thinking and Its Applications in Everyday Life” with Nikmah Zaita as we explore how problem-solving strategies from computer science can be applied to daily challenges. This session will highlight practical ways to break down problems\, identify patterns\, and create efficient solutions beyond the digital world.\n \nFrom students to professionals to lifelong learners\, you’ll gain tools to think logically\, solve problems creatively\, and approach everyday situations with clarity and confidence. \nSpoken Language: Indonesian\nTime: 5:00 – 6:00 PM (GMT+7 JKT / KH)   |  6:00 – 7:00 PM (GMT+8 HK / MY)
URL:http://iblooming.ai/zh/event/computational-thinking-and-its-applications-in-everyday-life/
LOCATION:Business School
CATEGORIES:OnLive
ATTACH;FMTTYPE=image/jpeg:https://iblooming.ai/wp-content/uploads/2025/09/2910t.jpg
ORGANIZER;CN="iLearn":MAILTO:cs@iblooming.ai
END:VEVENT
END:VCALENDAR