BEGIN:VCALENDAR
VERSION:2.0
PRODID:-//iBlooming - ECPv6.14.1//NONSGML v1.0//EN
CALSCALE:GREGORIAN
METHOD:PUBLISH
X-ORIGINAL-URL:http://iblooming.ai/zh
X-WR-CALDESC:iBlooming的活动
REFRESH-INTERVAL;VALUE=DURATION:PT1H
X-Robots-Tag:noindex
X-PUBLISHED-TTL:PT1H
BEGIN:VTIMEZONE
TZID:Asia/Hong_Kong
BEGIN:STANDARD
TZOFFSETFROM:+0800
TZOFFSETTO:+0800
TZNAME:HKT
DTSTART:20250101T000000
END:STANDARD
END:VTIMEZONE
BEGIN:VEVENT
DTSTART;TZID=Asia/Hong_Kong:20251101T120000
DTEND;TZID=Asia/Hong_Kong:20251101T130000
DTSTAMP:20260423T151315
CREATED:20251016T024910Z
LAST-MODIFIED:20251016T024910Z
UID:10000145-1761998400-1762002000@iblooming.ai
SUMMARY:The Dharma Journey to Mental Wellness
DESCRIPTION:Join us for “The Dharma Journey to Mental Wellness” with Mr. K.S. Arsana\, as we explore how ancient wisdom and spiritual practice can guide us toward inner peace and emotional balance. This session will uncover the timeless principles of Dharma that nurture mindfulness\, resilience\, and clarity amid life’s challenges. \nDiscover how living in alignment with Dharma can help you cultivate mental harmony\, reduce stress\, and find a deeper sense of purpose and serenity in your daily life. \nSpoken Language: Indonesian\nTime: 11:00 AM (GMT+7 JKT / KH)   |  12:00 PM (GMT+8 HK / MY)
URL:http://iblooming.ai/zh/event/the-dharma-journey-to-mental-wellness/
CATEGORIES:OnLive
ATTACH;FMTTYPE=image/jpeg:https://iblooming.ai/wp-content/uploads/2025/10/Thumbnail-10.jpg
ORGANIZER;CN="iLearn":MAILTO:cs@iblooming.ai
END:VEVENT
END:VCALENDAR