BEGIN:VCALENDAR
VERSION:2.0
PRODID:-//iBlooming - ECPv6.14.1//NONSGML v1.0//EN
CALSCALE:GREGORIAN
METHOD:PUBLISH
X-ORIGINAL-URL:http://iblooming.ai/zh
X-WR-CALDESC:iBlooming的活动
REFRESH-INTERVAL;VALUE=DURATION:PT1H
X-Robots-Tag:noindex
X-PUBLISHED-TTL:PT1H
BEGIN:VTIMEZONE
TZID:Asia/Hong_Kong
BEGIN:STANDARD
TZOFFSETFROM:+0800
TZOFFSETTO:+0800
TZNAME:HKT
DTSTART:20250101T000000
END:STANDARD
END:VTIMEZONE
BEGIN:VEVENT
DTSTART;TZID=Asia/Hong_Kong:20251113T180000
DTEND;TZID=Asia/Hong_Kong:20251113T190000
DTSTAMP:20260423T164248
CREATED:20251104T040709Z
LAST-MODIFIED:20251104T040709Z
UID:10000173-1763056800-1763060400@iblooming.ai
SUMMARY:Blueprint B2B Sales System: Make Your Sales Team 10 Times More Effective
DESCRIPTION:Discover “Blueprint B2B Sales System: Make Your Sales Team 10 Times More Effective” with Hendra Hilman\, as we dive into proven strategies to boost performance\, strengthen client relationships\, and accelerate business growth. This session will reveal how to design a scalable B2B sales system that empowers your team to sell smarter\, not harder. \nLearn how to optimize processes\, leverage data\, and build a winning sales culture—transforming your team into a high-impact force that drives consistent results and long-term success. \nSpoken Language: Indonesian\nTime: 5:00 – 6:00 PM (GMT+7 JKT / KH)   |  6:00 – 7:00 PM (GMT+8 HK / MY)
URL:http://iblooming.ai/zh/event/blueprint-b2b-sales-system-make-your-sales-team-10-times-more-effective/
CATEGORIES:OnLive
ATTACH;FMTTYPE=image/jpeg:https://iblooming.ai/wp-content/uploads/2025/11/1113t.jpg
ORGANIZER;CN="iLearn":MAILTO:cs@iblooming.ai
END:VEVENT
BEGIN:VEVENT
DTSTART;TZID=Asia/Hong_Kong:20251113T200000
DTEND;TZID=Asia/Hong_Kong:20251113T210000
DTSTAMP:20260423T164248
CREATED:20251029T023629Z
LAST-MODIFIED:20251029T023629Z
UID:10000159-1763064000-1763067600@iblooming.ai
SUMMARY:Christian Counseling: The Meaning\, the Difference from Sermons\, Goals\, Characteristics\, Therapy Diagnosis
DESCRIPTION:Join us for “Christian Counseling: The Meaning\, the Difference from Sermons\, Goals\, Characteristics\, Therapy Diagnosis” with Dr. Yanto Paulus Hermanto\, M.Th\, as we explore the true essence and distinct role of counseling within the Christian faith. This session will shed light on how biblical principles guide the counseling process—helping individuals find healing\, clarity\, and restoration through God’s truth. \nDiscover how Christian counseling differs from preaching\, what makes it unique in its goals and methods\, and how a deeper understanding of therapeutic diagnosis can empower you to minister with empathy\, wisdom\, and spiritual discernment. \n  \nSpoken Language: Indonesian\nTime: 8:00 PM (GMT+7 JKT / KH)   |  9:00 PM (GMT+8 HK / MY)
URL:http://iblooming.ai/zh/event/christian-counseling-the-meaning-the-difference-from-sermons-goals-characteristics-therapy-diagnosis/
CATEGORIES:OnLive
ATTACH;FMTTYPE=image/jpeg:https://iblooming.ai/wp-content/uploads/2025/10/1113t.jpg
ORGANIZER;CN="iLearn":MAILTO:cs@iblooming.ai
END:VEVENT
BEGIN:VEVENT
DTSTART;TZID=Asia/Hong_Kong:20251113T223000
DTEND;TZID=Asia/Hong_Kong:20251113T235900
DTSTAMP:20260423T164248
CREATED:20251105T075601Z
LAST-MODIFIED:20251105T094133Z
UID:10000175-1763073000-1763078340@iblooming.ai
SUMMARY:Supper and Mindfulness Pt 2
DESCRIPTION:Experience “Supper and Mindfulness Pt 2” with Onggy Hianata\, an inspiring session that invites you to slow down\, reflect\, and rediscover the beauty of being present. Through mindful sharing and heartfelt reflection\, this session will explore how awareness and gratitude can transform the way we think\, feel\, and connect with others. \nDiscover how simple moments—when embraced with mindfulness—can bring deeper peace\, clarity\, and joy to your daily life\, nurturing both inner calm and meaningful connection with the world around you. \nSpoken Language: Indonesia\nTime: 9:300 – 11:00 PM (GMT+7 JKT / KH)   |  10:30PM – 12:00 AM (GMT+8 HK / MY) \n 
URL:http://iblooming.ai/zh/event/supper-and-mindfulness-pt-2/
CATEGORIES:OnLive
ATTACH;FMTTYPE=image/jpeg:https://iblooming.ai/wp-content/uploads/2025/11/Supper_Launch_Thumbnail.jpg
END:VEVENT
END:VCALENDAR