BEGIN:VCALENDAR
VERSION:2.0
PRODID:-//iBlooming - ECPv6.14.1//NONSGML v1.0//EN
CALSCALE:GREGORIAN
METHOD:PUBLISH
X-ORIGINAL-URL:http://iblooming.ai/zh
X-WR-CALDESC:iBlooming的活动
REFRESH-INTERVAL;VALUE=DURATION:PT1H
X-Robots-Tag:noindex
X-PUBLISHED-TTL:PT1H
BEGIN:VTIMEZONE
TZID:Asia/Hong_Kong
BEGIN:STANDARD
TZOFFSETFROM:+0800
TZOFFSETTO:+0800
TZNAME:HKT
DTSTART:20250101T000000
END:STANDARD
END:VTIMEZONE
BEGIN:VEVENT
DTSTART;TZID=Asia/Hong_Kong:20251114T160000
DTEND;TZID=Asia/Hong_Kong:20251114T170000
DTSTAMP:20260423T085042
CREATED:20251104T040326Z
LAST-MODIFIED:20251104T040326Z
UID:10000172-1763136000-1763139600@iblooming.ai
SUMMARY:Building Great Leadership Through Strategic Thinking
DESCRIPTION:Discover “Building Great Leadership Through Strategic Thinking” with Ferry Wirawan Tedja\, as we uncover how visionary leaders think\, plan\, and act with purpose to drive lasting impact. This session will explore how strategic thinking strengthens decision-making\, inspires teams\, and transforms challenges into opportunities for growth. \nLearn how to cultivate a leader’s mindset—aligning clarity\, creativity\, and strategy to build influence\, foster innovation\, and lead with confidence in an ever-changing world. \nSpoken Language: Indonesian\nTime: 3:00 – 4:00 PM (GMT+7 JKT / KH)   |  4:00 – 5:00 PM (GMT+8 HK / MY)
URL:http://iblooming.ai/zh/event/building-great-leadership-through-strategic-thinking/
CATEGORIES:OnLive
ATTACH;FMTTYPE=image/jpeg:https://iblooming.ai/wp-content/uploads/2025/11/1114t.jpg
ORGANIZER;CN="iLearn":MAILTO:cs@iblooming.ai
END:VEVENT
END:VCALENDAR