BEGIN:VCALENDAR
VERSION:2.0
PRODID:-//iBlooming - ECPv6.14.1//NONSGML v1.0//EN
CALSCALE:GREGORIAN
METHOD:PUBLISH
X-ORIGINAL-URL:http://iblooming.ai/zh
X-WR-CALDESC:iBlooming的活动
REFRESH-INTERVAL;VALUE=DURATION:PT1H
X-Robots-Tag:noindex
X-PUBLISHED-TTL:PT1H
BEGIN:VTIMEZONE
TZID:Asia/Hong_Kong
BEGIN:STANDARD
TZOFFSETFROM:+0800
TZOFFSETTO:+0800
TZNAME:HKT
DTSTART:20250101T000000
END:STANDARD
END:VTIMEZONE
BEGIN:VEVENT
DTSTART;TZID=Asia/Hong_Kong:20251124T180000
DTEND;TZID=Asia/Hong_Kong:20251124T190000
DTSTAMP:20260423T085042
CREATED:20251027T062328Z
LAST-MODIFIED:20251027T062328Z
UID:10000155-1764007200-1764010800@iblooming.ai
SUMMARY:Survival Strategies in the Mission Field 2: Spiritual Strength Under the Pressures
DESCRIPTION:Join us for “Survival Strategies in the Mission Field 2: Spiritual Strength Under the Pressures” with Dr. Fredy Simanjuntak\, M.Th\, as we delve into how faith and spiritual endurance sustain missionaries through trials and challenges in the field. This session will highlight the importance of prayer\, inner renewal\, and reliance on God’s power when facing fatigue\, uncertainty\, and emotional strain. \nDiscover how to stay steadfast under pressure—drawing strength from God’s presence\, maintaining joy in service\, and continuing to shine His light even in the most demanding circumstances. \nSpoken Language: Indonesian \nTime: 5:00 – 6:00 PM (GMT+7 JKT / KH)   |  6:00 – 7:00 PM (GMT+8 HK / MY)
URL:http://iblooming.ai/zh/event/survival-strategies-in-the-mission-field-2-spiritual-strength-under-the-pressures/
LOCATION:Business School
CATEGORIES:OnLive
ATTACH;FMTTYPE=image/jpeg:https://iblooming.ai/wp-content/uploads/2025/10/1124t.jpg
END:VEVENT
BEGIN:VEVENT
DTSTART;TZID=Asia/Hong_Kong:20251124T200000
DTEND;TZID=Asia/Hong_Kong:20251124T210000
DTSTAMP:20260423T085042
CREATED:20251110T013623Z
LAST-MODIFIED:20251117T102426Z
UID:10000185-1764014400-1764018000@iblooming.ai
SUMMARY:Building a Digital Literacy Culture in Schools
DESCRIPTION:Discover “Building a Digital Literacy Culture in Schools” with Dhank Ari\, as we explore how fostering digital skills and awareness can empower students\, teachers\, and the entire school community. This session highlights practical approaches to integrating safe\, ethical\, and productive use of technology into learning environments. \nLearn how to cultivate a culture where digital literacy shapes critical thinking\, creativity\, and collaboration—preparing students to thrive responsibly and confidently in the modern\, technology-driven world. \nSpoken Language: Indonesia\nTime: 7:00 – 8:00 PM (GMT+7 JKT / KH)   |  8:00 – 9:00 PM (GMT+8 HK / MY)
URL:http://iblooming.ai/zh/event/stay-tuned-14/
LOCATION:Business School
CATEGORIES:OnLive
ATTACH;FMTTYPE=image/jpeg:https://iblooming.ai/wp-content/uploads/2025/11/1124t.jpg
ORGANIZER;CN="iLearn":MAILTO:cs@iblooming.ai
END:VEVENT
END:VCALENDAR