BEGIN:VCALENDAR
VERSION:2.0
PRODID:-//iBlooming - ECPv6.14.1//NONSGML v1.0//EN
CALSCALE:GREGORIAN
METHOD:PUBLISH
X-ORIGINAL-URL:http://iblooming.ai/zh
X-WR-CALDESC:iBlooming的活动
REFRESH-INTERVAL;VALUE=DURATION:PT1H
X-Robots-Tag:noindex
X-PUBLISHED-TTL:PT1H
BEGIN:VTIMEZONE
TZID:Asia/Hong_Kong
BEGIN:STANDARD
TZOFFSETFROM:+0800
TZOFFSETTO:+0800
TZNAME:HKT
DTSTART:20250101T000000
END:STANDARD
END:VTIMEZONE
BEGIN:VEVENT
DTSTART;TZID=Asia/Hong_Kong:20251129T120000
DTEND;TZID=Asia/Hong_Kong:20251129T130000
DTSTAMP:20260423T151226
CREATED:20251029T025857Z
LAST-MODIFIED:20251126T032102Z
UID:10000165-1764417600-1764421200@iblooming.ai
SUMMARY:Nurturing Harmony in Dharma Bonds
DESCRIPTION:Join us for “Nurturing Harmony in Dharma Bonds” with Mr. K.S. Arsana\, as we reflect on how Dharma teaches us to build and sustain relationships grounded in respect\, understanding\, and love. This session will explore the essence of harmonious living—where balance\, compassion\, and shared values strengthen the bonds that unite us. \nDiscover how practicing Dharma in daily relationships can foster peace\, deepen connections\, and create lasting harmony within families\, communities\, and the wider world. \nSpoken Language: Indonesian\nTime: 12:00 PM (GMT+7 JKT / KH)   |  1:00 PM (GMT+8 HK / MY)
URL:http://iblooming.ai/zh/event/nurturing-harmony-in-dharma-bonds/
CATEGORIES:OnLive
ATTACH;FMTTYPE=image/jpeg:https://iblooming.ai/wp-content/uploads/2025/10/1129t.jpg
ORGANIZER;CN="iLearn":MAILTO:cs@iblooming.ai
END:VEVENT
END:VCALENDAR