BEGIN:VCALENDAR
VERSION:2.0
PRODID:-//iBlooming - ECPv6.14.1//NONSGML v1.0//EN
CALSCALE:GREGORIAN
METHOD:PUBLISH
X-ORIGINAL-URL:http://iblooming.ai/zh
X-WR-CALDESC:iBlooming的活动
REFRESH-INTERVAL;VALUE=DURATION:PT1H
X-Robots-Tag:noindex
X-PUBLISHED-TTL:PT1H
BEGIN:VTIMEZONE
TZID:Asia/Hong_Kong
BEGIN:STANDARD
TZOFFSETFROM:+0800
TZOFFSETTO:+0800
TZNAME:HKT
DTSTART:20250101T000000
END:STANDARD
END:VTIMEZONE
BEGIN:VEVENT
DTSTART;TZID=Asia/Hong_Kong:20251201T180000
DTEND;TZID=Asia/Hong_Kong:20251201T190000
DTSTAMP:20260422T154246
CREATED:20251125T093153Z
LAST-MODIFIED:20251128T023125Z
UID:10000199-1764612000-1764615600@iblooming.ai
SUMMARY:Finishing Well\, Finishing Strong: Living the spiritual marathon
DESCRIPTION:Discover “Finishing Well\, Finishing Strong: Living the Spiritual Marathon” with Dr. Didimus Sutanto\, M.Pd\, as we explore how life is not a sprint—but a long and purposeful spiritual journey. This session will uncover principles of endurance\, discipline\, and faith that help us persevere through challenges with clarity and conviction. \nLearn how to run your spiritual marathon with wisdom\, strength\, and resilience—so you don’t just reach the finish line\, but finish well\, with meaning and impact. \nSpoken Language: Indonesian \nTime: 5:00 – 6:00 PM (GMT+7 JKT / KH)   |  6:00 – 7:00 PM (GMT+8 HK / MY)
URL:http://iblooming.ai/zh/event/finishing-well-finishing-strong-living-the-spiritual-marathon/
LOCATION:Business School
CATEGORIES:OnLive
ATTACH;FMTTYPE=image/jpeg:https://iblooming.ai/wp-content/uploads/2025/11/Thumbnail-14.jpg
END:VEVENT
BEGIN:VEVENT
DTSTART;TZID=Asia/Hong_Kong:20251201T200000
DTEND;TZID=Asia/Hong_Kong:20251201T210000
DTSTAMP:20260422T154246
CREATED:20251125T094448Z
LAST-MODIFIED:20251125T094448Z
UID:10000204-1764619200-1764622800@iblooming.ai
SUMMARY:Digital Literacy for Creators: From Understanding to Influence
DESCRIPTION:Discover “Digital Literacy for Creators: From Understanding to Influence” with Christofer Santosa\, as we explore how mastering digital tools and strategies can elevate your creative work and expand your impact. This session will uncover the key foundations of digital literacy—helping creators navigate online platforms\, engage audiences effectively\, and communicate with purpose. \nLearn how to transform knowledge into influence\, build authentic connections\, and leverage digital skills to turn your creative ideas into meaningful outcomes in today’s connected world. \nSpoken Language: Indonesia\nTime: 7:00 – 8:00 PM (GMT+7 JKT / KH)   |  8:00 – 9:00 PM (GMT+8 HK / MY)
URL:http://iblooming.ai/zh/event/digital-literacy-for-creators-from-understanding-to-influence/
LOCATION:Business School
CATEGORIES:OnLive
ATTACH;FMTTYPE=image/jpeg:https://iblooming.ai/wp-content/uploads/2025/11/1201T-1.jpg
ORGANIZER;CN="iLearn":MAILTO:cs@iblooming.ai
END:VEVENT
END:VCALENDAR